BEGIN:VCALENDAR
PRODID:NingEventWidget-v1
VERSION:2.0
METHOD:PUBLISH
BEGIN:VTIMEZONE
TZID:Pacific/Midway
X-LIC-LOCATION:Pacific/Midway
BEGIN:STANDARD
TZOFFSETFROM:-1100
TZOFFSETTO:-1100
TZNAME:SST
DTSTART:19700101T000000
END:STANDARD
END:VTIMEZONE
BEGIN:VEVENT
UID:5072275:Event:1082382
DTSTAMP:20260422T203037Z
SUMMARY:Summit Monday Night Cruise - McDonough, GA
DESCRIPTION:\r\nMonday Night Cruise 6-25-18\r\n\r\nMonday Night Cruise
 --1970s Cars\r\nMonday, June 25, 2018\r\n\r\nSummit Racing Equipment, 
 McDonough, GA\r\n\r\n\r\n\r\n• Show off your ride--all vehicles welc
 ome• See the areas hottest cars and trucks• Awards and door prizes
 • Check out money-saving Manager Specials• Featured Vehicles: 1970
 s Cars\r\n\n\nFor more information visit https://www.southeastwheelsev
 ents.com/events/summit-monday-night-cruise-mcdonough-ga-8
DTSTART;TZID=Pacific/Midway:20180625T180000
DTEND;TZID=Pacific/Midway:20180625T200000
CATEGORIES:cruise, in
LOCATION:Summit Racing Equipment - McDonough, GA
WEBSITE:https://www.summitracing.com
URL:https://www.summitracing.com
CONTACT:770-288-3200
ORGANIZER:Summit Racing Equipment
ATTACH;FMTTYPE="image/jpeg":http://storage.ning.com/topology/rest/1.0/
 file/get/967767815?profile=original
ATTENDEE;ROLE=REQ-PARTICIPANT;PARTSTAT=ACCEPTED;RSVP=TRUE;CN="Chuck Aa
 ron":https://www.southeastwheelsevents.com/profile/ChuckAaron886
END:VEVENT
END:VCALENDAR
