BEGIN:VCALENDAR
PRODID:NingEventWidget-v1
VERSION:2.0
METHOD:PUBLISH
BEGIN:VTIMEZONE
TZID:Pacific/Midway
X-LIC-LOCATION:Pacific/Midway
BEGIN:STANDARD
TZOFFSETFROM:-1100
TZOFFSETTO:-1100
TZNAME:SST
DTSTART:19700101T000000
END:STANDARD
END:VTIMEZONE
BEGIN:VEVENT
UID:5072275:Event:1183015
DTSTAMP:20260422T122907Z
SUMMARY:SUMMIT RACING EQUIPMENT PRESENTS ATLANTA MOTORAMA
DESCRIPTION:\r\n Tickets are affordably priced at $15 for adults per d
 ay, $20 for a weekend pass, just $5 for kids 6-12, and FREE for kids 5
  and under. Tickets include access to all areas of the show including 
 the vendor midway, show car garage, extreme motorsports and so much mo
 re. Purchase your tickets in advance or at the gate the day of the sho
 w! Spectator entrance is located at Gate 13 & 15. Gate Times: Saturday
  (04/25): 9 a.m. - 5 p.m. Sunday (04/26): 9 a.m. - 4 p.m.\n\nFor more 
 information visit https://www.southeastwheelsevents.com/events/summit-
 racing-equipment-presents-atlanta-motorama-2
DTSTART;TZID=Pacific/Midway:20200426T090000
DTEND;TZID=Pacific/Midway:20200426T170000
CATEGORIES:all, motorized, "(and", some, "not)", vehicle, show
LOCATION:ATLANTA MOTOR SPEEDWAY
WEBSITE:
URL:
CONTACT:877-9-AMS TIX
ORGANIZER:SUMMIT RACING EQPT AND ATLANTA MOTOR SPEEDWAY
ATTACH;FMTTYPE="image/jpeg":https://storage.ning.com/topology/rest/1.0
 /file/get/3753951240?profile=original
ATTENDEE;ROLE=REQ-PARTICIPANT;PARTSTAT=TENTATIVE;RSVP=TRUE;CN="Bill mu
 sarra":https://www.southeastwheelsevents.com/profile/billmusarra
ATTENDEE;ROLE=REQ-PARTICIPANT;PARTSTAT=TENTATIVE;RSVP=TRUE;CN="Jeffrey
  Rutherford":https://www.southeastwheelsevents.com/profile/JeffreyRuth
 erford866
END:VEVENT
END:VCALENDAR
