BEGIN:VCALENDAR
PRODID:NingEventWidget-v1
VERSION:2.0
METHOD:PUBLISH
BEGIN:VTIMEZONE
TZID:Pacific/Midway
X-LIC-LOCATION:Pacific/Midway
BEGIN:STANDARD
TZOFFSETFROM:-1100
TZOFFSETTO:-1100
TZNAME:SST
DTSTART:19700101T000000
END:STANDARD
END:VTIMEZONE
BEGIN:VEVENT
UID:5072275:Event:1168935
DTSTAMP:20260420T030455Z
SUMMARY:Summit Racing Friday Night Cruise In - McDonough, GA
DESCRIPTION:Friday Night Cruise 6-14-19\r\nFriday Night Cruise\r\n\r\n
 Friday, June 14, 2019\r\nSummit Racing Equipment, McDonough, GA\r\n\r\
 n\r\n* Show off your ride, all vehicles welcome* See the area's hottes
 t cars and trucks* Awards and door prizes* Check out money-saving Mana
 ger Specials\r\n\n\nFor more information visit https://www.southeastwh
 eelsevents.com/events/summit-racing-friday-night-cruise-in-mcdonough-g
 a
DTSTART;TZID=Pacific/Midway:20190614T180000
DTEND;TZID=Pacific/Midway:20190614T200000
CATEGORIES:cruise-in, car, show
LOCATION:Summit Racing in McDonough
WEBSITE:https://www.summitracing.com/newsandevents/calendar
URL:https://www.summitracing.com/newsandevents/calendar
CONTACT:770) 288-3200
ORGANIZER:Summit Racing Equipment
ATTACH;FMTTYPE="image/jpeg":http://storage.ning.com/topology/rest/1.0/
 file/get/967613852?profile=original
ATTENDEE;ROLE=REQ-PARTICIPANT;PARTSTAT=ACCEPTED;RSVP=TRUE;CN="Chuck Aa
 ron":https://www.southeastwheelsevents.com/profile/ChuckAaron886
ATTENDEE;ROLE=REQ-PARTICIPANT;PARTSTAT=TENTATIVE;RSVP=TRUE;CN="Solomon
  Snead":https://www.southeastwheelsevents.com/profile/SolomonSnead
END:VEVENT
END:VCALENDAR
