BEGIN:VCALENDAR
PRODID:NingEventWidget-v1
VERSION:2.0
METHOD:PUBLISH
BEGIN:VTIMEZONE
TZID:Pacific/Midway
X-LIC-LOCATION:Pacific/Midway
BEGIN:STANDARD
TZOFFSETFROM:-1100
TZOFFSETTO:-1100
TZNAME:SST
DTSTART:19700101T000000
END:STANDARD
END:VTIMEZONE
BEGIN:VEVENT
UID:5072275:Event:1168797
DTSTAMP:20260423T002258Z
SUMMARY:Summit Racing Monday Night Cruise In - McDonough, GA
DESCRIPTION:Monday Night Cruise 9-9-19\r\nMonday Night Cruise--Modern 
 Muscle Cars\r\n\r\nMonday, September 09, 2019\r\nSummit Racing Equipme
 nt, McDonough, GA\r\n\r\n\r\n• Featured vehicles--modern muscle car
 s • Show off your ride--all vehicles welcome • See the areas hotte
 st cars and trucks • Awards and door prizes • Check out money-savi
 ng Manager Specials\r\n\n\nFor more information visit https://www.sout
 heastwheelsevents.com/events/summit-racing-monday-night-cruise-in-mcdo
 nough-ga-11
DTSTART;TZID=Pacific/Midway:20190909T180000
DTEND;TZID=Pacific/Midway:20190909T200000
CATEGORIES:cruise-in, car, show
LOCATION:Summit Racing in McDonough
WEBSITE:https://www.summitracing.com/newsandevents/calendar
URL:https://www.summitracing.com/newsandevents/calendar
CONTACT:770) 288-3200
ORGANIZER:Summit Racing Equipment
ATTACH;FMTTYPE="image/jpeg":http://storage.ning.com/topology/rest/1.0/
 file/get/967613852?profile=original
ATTENDEE;ROLE=REQ-PARTICIPANT;PARTSTAT=ACCEPTED;RSVP=TRUE;CN="Chuck Aa
 ron":https://www.southeastwheelsevents.com/profile/ChuckAaron886
END:VEVENT
END:VCALENDAR
