BEGIN:VCALENDAR
PRODID:NingEventWidget-v1
VERSION:2.0
METHOD:PUBLISH
BEGIN:VTIMEZONE
TZID:Pacific/Midway
X-LIC-LOCATION:Pacific/Midway
BEGIN:STANDARD
TZOFFSETFROM:-1100
TZOFFSETTO:-1100
TZNAME:SST
DTSTART:19700101T000000
END:STANDARD
END:VTIMEZONE
BEGIN:VEVENT
UID:5072275:Event:1018504
DTSTAMP:20260423T154636Z
SUMMARY:Sumter Swap Meets
DESCRIPTION:Auto Swap Meet, Car Corral, Car show at the First Sunday o
 f the Month except July & August, too Hot. Over 900 vendor spaces fill
 ed with vendors selling auto parts, cars, auto related merchandise, to
 ols, antiques. Door prizes, Dave's trivia questions, food vendors. For
  more information call Joann at 727-848-7171 or Craig at 727-534-7433.
 \n\n\nFor more information visit https://www.southeastwheelsevents.com
 /events/sumter-swap-meets-2
DTSTART;TZID=Pacific/Midway:20170205T080000
DTEND;TZID=Pacific/Midway:20170205T150000
CATEGORIES:antiques, and, classics, swap, meet, "/", car, corral, car-
 truck, show
LOCATION:Sumter County Fairgrounds
WEBSITE:http://www.floridaswapmeets.com
URL:http://www.floridaswapmeets.com
CONTACT:727-848-7171
ORGANIZER;CN="Sumter Swap Meets":https://www.southeastwheelsevents.com
 /profile/CraigPearson
ATTACH;FMTTYPE="image/jpeg":http://storage.ning.com/topology/rest/1.0/
 file/get/967717733?profile=original
ATTENDEE;ROLE=REQ-PARTICIPANT;PARTSTAT=ACCEPTED;RSVP=TRUE;CN="Chuck Aa
 ron":https://www.southeastwheelsevents.com/profile/ChuckAaron886
ATTENDEE;ROLE=REQ-PARTICIPANT;PARTSTAT=ACCEPTED;RSVP=TRUE;CN="Sumter S
 wap Meets":https://www.southeastwheelsevents.com/profile/CraigPearson
END:VEVENT
END:VCALENDAR
