BEGIN:VCALENDAR
PRODID:NingEventWidget-v1
VERSION:2.0
METHOD:PUBLISH
BEGIN:VTIMEZONE
TZID:Pacific/Midway
X-LIC-LOCATION:Pacific/Midway
BEGIN:STANDARD
TZOFFSETFROM:-1100
TZOFFSETTO:-1100
TZNAME:SST
DTSTART:19700101T000000
END:STANDARD
END:VTIMEZONE
BEGIN:VEVENT
UID:5072275:Event:1159736
DTSTAMP:20260420T113019Z
SUMMARY:Sumter Swap Meets
DESCRIPTION:**** Hurricane Dorian Cancels Sundays' Sumter Swap Meets 
 Show *** at the Sumter County Fairgrounds. We are sorry, somethings we
  cannot control. See you the first Sunday of Oct. Next event will be O
 ctober 6, 2019. Pass the word on... Any questions call us at (727) 848
 -7171. Stay safe and dry. Craig & Joann\n\n\n\nAuto Swap Meet, Car Cor
 ral, Car show the first Sunday of the Month except July & August, too 
 Hot. Over 900 vendor spaces filled with vendors selling auto parts, ca
 rs, auto related merchandise, tools, antiques. Door prizes, trivia que
 stions, food vendors. Located at the Sumter County Fairgrounds: 7620 S
 .R. 471 Bushnell, FL, 33513. For more information call Joann at 727-8
 48-7171 or 727-534-7433.\n\nFor more information visit https://www.sou
 theastwheelsevents.com/events/sumter-swap-meets-20
DTSTART;TZID=Pacific/Midway:20190901T080000
DTEND;TZID=Pacific/Midway:20190901T150000
CATEGORIES:swap, meet
LOCATION:Sumter County Fairgrounds
WEBSITE:http://www.floridaswapmeets.com
URL:http://www.floridaswapmeets.com
CONTACT:7278487171
ORGANIZER;CN="Sumter Swap Meets":https://www.southeastwheelsevents.com
 /profile/CraigPearson
ATTACH;FMTTYPE="image/jpeg":https://storage.ning.com/topology/rest/1.0
 /file/get/1539975127?profile=original
ATTENDEE;ROLE=REQ-PARTICIPANT;PARTSTAT=ACCEPTED;RSVP=TRUE;CN="Sumter S
 wap Meets":https://www.southeastwheelsevents.com/profile/CraigPearson
END:VEVENT
END:VCALENDAR
