BEGIN:VCALENDAR
PRODID:NingEventWidget-v1
VERSION:2.0
METHOD:PUBLISH
BEGIN:VTIMEZONE
TZID:Pacific/Midway
X-LIC-LOCATION:Pacific/Midway
BEGIN:STANDARD
TZOFFSETFROM:-1100
TZOFFSETTO:-1100
TZNAME:SST
DTSTART:19700101T000000
END:STANDARD
END:VTIMEZONE
BEGIN:VEVENT
UID:5072275:Event:1030818
DTSTAMP:20260424T045402Z
SUMMARY:Sunday Cruise In at Diamond Strike
DESCRIPTION:Sunday Cruise In will be held at Diamond Strike. Cruise wi
 ll start by 5.00 pm and will end at 9.00 pm. Schedule subject to chang
 e.\n\nFor more information visit https://www.southeastwheelsevents.com
 /events/sunday-cruise-in-at-diamond-strike
DTSTART;TZID=Pacific/Midway:20170129T170000
DTEND;TZID=Pacific/Midway:20170129T210000
CATEGORIES:cars, "clubs/shows/cruises"
LOCATION:Diamond Strike Lanes & Sports Bar
WEBSITE:http://www.flmustangclub.com/upcoming_events.html
URL:http://www.flmustangclub.com/upcoming_events.html
CONTACT:
ORGANIZER:
ATTACH;FMTTYPE="image/jpeg":
ATTENDEE;ROLE=REQ-PARTICIPANT;PARTSTAT=ACCEPTED;RSVP=TRUE;CN="Christop
 her Gosney":https://www.southeastwheelsevents.com/profile/ChristopherG
 osney
END:VEVENT
END:VCALENDAR
