BEGIN:VCALENDAR
PRODID:NingEventWidget-v1
VERSION:2.0
METHOD:PUBLISH
BEGIN:VTIMEZONE
TZID:Pacific/Midway
X-LIC-LOCATION:Pacific/Midway
BEGIN:STANDARD
TZOFFSETFROM:-1100
TZOFFSETTO:-1100
TZNAME:SST
DTSTART:19700101T000000
END:STANDARD
END:VTIMEZONE
BEGIN:VEVENT
UID:5072275:Event:1123438
DTSTAMP:20260419T082138Z
SUMMARY:Sunday Cruise In - Hogansville, Ga
DESCRIPTION:Wendy's. I-85 Exit 28\n\nFor more information visit https:
 //www.southeastwheelsevents.com/events/sunday-cruise-in-hogansville-ga
 -12
DTSTART;TZID=Pacific/Midway:20190811T130000
DTEND;TZID=Pacific/Midway:20190811T160000
CATEGORIES:car, show, cruise-in
LOCATION:Wendy's,
WEBSITE:https://www.google.co.in/maps/place/Wendy&amp;amp;amp;amp;amp;
 amp;amp;amp;amp;amp;amp;#039;s/@33.1613766,-84.8736005,17z/data=!3m1!4
 b1!4m5!3m4!1s0x88f4b20e8dafe0d7:0xb8c17cf3b012a296!8m2!3d33.1613721!4d
 -84.8714118
URL:https://www.google.co.in/maps/place/Wendy&amp;amp;amp;amp;amp;amp;
 amp;amp;amp;amp;amp;#039;s/@33.1613766,-84.8736005,17z/data=!3m1!4b1!4
 m5!3m4!1s0x88f4b20e8dafe0d7:0xb8c17cf3b012a296!8m2!3d33.1613721!4d-84.
 8714118
CONTACT:(470) 241-3132
ORGANIZER:Mary Davenport
ATTACH;FMTTYPE="image/jpeg":http://storage.ning.com/topology/rest/1.0/
 file/get/967785375?profile=original
ATTENDEE;ROLE=REQ-PARTICIPANT;PARTSTAT=ACCEPTED;RSVP=TRUE;CN="Anthony 
 Hopkins":https://www.southeastwheelsevents.com/profile/AnthonyHopkins
END:VEVENT
END:VCALENDAR
