BEGIN:VCALENDAR
PRODID:NingEventWidget-v1
VERSION:2.0
METHOD:PUBLISH
BEGIN:VTIMEZONE
TZID:Pacific/Midway
X-LIC-LOCATION:Pacific/Midway
BEGIN:STANDARD
TZOFFSETFROM:-1100
TZOFFSETTO:-1100
TZNAME:SST
DTSTART:19700101T000000
END:STANDARD
END:VTIMEZONE
BEGIN:VEVENT
UID:5072275:Event:1106655
DTSTAMP:20260420T161426Z
SUMMARY:Sunday Cruise In - North Charleston, Sc
DESCRIPTION:Pep Boys Speed Shop, 6240 Rivers Avenue.\n\nFor more infor
 mation visit https://www.southeastwheelsevents.com/events/sunday-cruis
 e-in-north-charleston-sc-3
DTSTART;TZID=Pacific/Midway:20181111T090000
DTEND;TZID=Pacific/Midway:20181111T110000
CATEGORIES:car, show, cruise-in
LOCATION:Pep Boys Speed Shop,
WEBSITE:https://www.google.co.in/maps/place/Pep+Boys+Auto+Parts+%26+Se
 rvice/@32.9095365,-80.0246457,17z/data=!3m1!4b1!4m5!3m4!1s0x88fe639c84
 71abcf:0xb9905e9604670596!8m2!3d32.909532!4d-80.022457
URL:https://www.google.co.in/maps/place/Pep+Boys+Auto+Parts+%26+Servic
 e/@32.9095365,-80.0246457,17z/data=!3m1!4b1!4m5!3m4!1s0x88fe639c8471ab
 cf:0xb9905e9604670596!8m2!3d32.909532!4d-80.022457
CONTACT:(843) 744-7831
ORGANIZER:
ATTACH;FMTTYPE="image/jpeg":http://storage.ning.com/topology/rest/1.0/
 file/get/967785736?profile=original
ATTENDEE;ROLE=REQ-PARTICIPANT;PARTSTAT=ACCEPTED;RSVP=TRUE;CN="Anthony 
 Hopkins":https://www.southeastwheelsevents.com/profile/AnthonyHopkins
END:VEVENT
END:VCALENDAR
