BEGIN:VCALENDAR
PRODID:NingEventWidget-v1
VERSION:2.0
METHOD:PUBLISH
BEGIN:VTIMEZONE
TZID:Pacific/Midway
X-LIC-LOCATION:Pacific/Midway
BEGIN:STANDARD
TZOFFSETFROM:-1100
TZOFFSETTO:-1100
TZNAME:SST
DTSTART:19700101T000000
END:STANDARD
END:VTIMEZONE
BEGIN:VEVENT
UID:5072275:Event:680123
DTSTAMP:20260424T063745Z
SUMMARY:Sunny King Scion One Love for Dylan Open Car Show -Anniston, A
 L
DESCRIPTION:Sunny King One Love for Dylan Open Car Show\n      Be
 nefiting Rise School in Tuscaloosa\n \n3:00 pm – 10 pm\n$15.00 Pre 
 register July 28 – Sept 28\n$20.00 Day of show {You will get a arm b
 and for free food and 1 t-shirt}\n \nTo pre register email Name, addr
 ess, phone number, shirt size,  year make and model to alscikotics@ya
 hoo.com\nPay pal tbradley88@bellsouth.net\n \nOver 50 trophies, Games
 , Raffles, and a auction\nVendor spots are $50.00          \n
  \nSunny King Toyota/Scion\n2570 U.S Highway 78 east\nAnniston, Al 36
 207\n \nEvent Hotel: Hampton Inn & Suites Oxford-Anniston\n210 Coloni
 al Drive, Oxford, Alabama, 36203,\n 1-866-516-8958 Make sure you ask 
 for the One Love for Dylan rate.\nAll doubles and Kings $89.00\nThe la
 st day to book at that price is 9/20/2013\n \nThere will be a meet an
 d greet at the hotel on Friday night 6pm-11pm\nThere will be a Mexican
  food cook off, So bring your favorite dish.\n \nFor more information
  please call or email Tammy Bradley @ 205-821-4819 or tbradley@scikoti
 cs.com\n  \n \n\nFor more information visit https://www.southeastwh
 eelsevents.com/events/sunny-king-scion-one-love-for-dylan-open-car-sho
 w
DTSTART;TZID=Pacific/Midway:20151017T150000
DTEND;TZID=Pacific/Midway:20151017T220000
CATEGORIES:open, car, show
LOCATION:Sunny King Toyota/Scion
WEBSITE:
URL:
CONTACT:205-821-4819
ORGANIZER;CN="Tammy Bradley":https://www.southeastwheelsevents.com/pro
 file/TammyBradley
ATTACH;FMTTYPE="image/jpeg":
ATTENDEE;ROLE=REQ-PARTICIPANT;PARTSTAT=ACCEPTED;RSVP=TRUE;CN="Tammy Br
 adley":https://www.southeastwheelsevents.com/profile/TammyBradley
END:VEVENT
END:VCALENDAR
