BEGIN:VCALENDAR
PRODID:NingEventWidget-v1
VERSION:2.0
METHOD:PUBLISH
BEGIN:VTIMEZONE
TZID:Pacific/Midway
X-LIC-LOCATION:Pacific/Midway
BEGIN:STANDARD
TZOFFSETFROM:-1100
TZOFFSETTO:-1100
TZNAME:SST
DTSTART:19700101T000000
END:STANDARD
END:VTIMEZONE
BEGIN:VEVENT
UID:5072275:Event:1270387
DTSTAMP:20260423T142842Z
SUMMARY:Super Cruise In - Villa Rica, GA
DESCRIPTION:  ๐ Golden City Cruisers โ 24th Season-Ending Super C
 ruise-In! ๐\r\n\r\n๐ Date: Saturday, October 18, 2025 ๐ Time:
  10:00 AM โ 3:00 PM ๐ Location: The Mill โ 106 Temple St, Villa
  Rica, GA ๐ง๏ธ Rain Date: Sunday, October 19, 2025 ๐ Website: go
 ldencitycruisers.com ๐ฏ Organized By: Dave Kopp\r\nโจ Event Overvie
 w\r\nGet ready for one of West Georgiaโs favorite fall traditions โ
  the Golden City Cruisersโ 24th Annual Season-Ending Super Cruise-I
 n!\r\nJoin fellow car lovers at The Mill for a full day of chrome, hor
 sepower, and heart, celebrating 24 years of giving back to local chari
 ties. This is more than a show โ itโs a community celebration on w
 heels!\r\n๐ต Prizes & Giveaways\r\n\r\n๐ฐ Four $100 Cash Raffles\r
 \n๐ณ Prize & Money Tree\r\n๐๏ธ Door Prizes Throughout the Day\r\
 n๐ Only $20 Donation to register your car โ every dollar supports
  local causes!\r\n\r\nAll makes and models are welcome โ if itโs g
 ot wheels and passion behind it, we want to see it!\r\n๐ Fun for th
 e Whole Family\r\n\r\n๐ Games for the Kids\r\n๐ Delicious Food V
 endors\r\n๐ Rows of Classic Cars & Hot Rods\r\n๐ต Good Music & Gr
 eat Company\r\n\r\nPlease note: No pets allowed for everyoneโs safet
 y.\r\n๐ Driven by Purpose\r\nFor 24 years, the Golden City Cruisers
  have proudly donated 100% of net proceeds to local charities โ maki
 ng every burnout, raffle, and smile count for something bigger.\r\n๐
  Bring your family, bring your friends, and cruise down memory lane i
 n Villa Rica! For more information, visit goldencitycruisers.com.\n\nF
 or more information visit https://www.southeastwheelsevents.com/events
 /super-cruise-in-1
DTSTART;TZID=Pacific/Midway:20251018T100000
DTEND;TZID=Pacific/Midway:20251018T150000
CATEGORIES:cruise, in
LOCATION:The Mill,
WEBSITE:http://goldencitycruisers.com
URL:http://goldencitycruisers.com
CONTACT:
ORGANIZER;CN="dave kopp":https://www.southeastwheelsevents.com/profile
 /davekopp
ATTACH;FMTTYPE="image/jpeg":https://storage.ning.com/topology/rest/1.0
 /file/get/11143341466?profile=original
ATTENDEE;ROLE=REQ-PARTICIPANT;PARTSTAT=ACCEPTED;RSVP=TRUE;CN="dave kop
 p":https://www.southeastwheelsevents.com/profile/davekopp
END:VEVENT
END:VCALENDAR
