BEGIN:VCALENDAR
PRODID:NingEventWidget-v1
VERSION:2.0
METHOD:PUBLISH
BEGIN:VTIMEZONE
TZID:Pacific/Midway
X-LIC-LOCATION:Pacific/Midway
BEGIN:STANDARD
TZOFFSETFROM:-1100
TZOFFSETTO:-1100
TZNAME:SST
DTSTART:19700101T000000
END:STANDARD
END:VTIMEZONE
BEGIN:VEVENT
UID:5072275:Event:1087134
DTSTAMP:20260423T155937Z
SUMMARY:Super Cruise In for Kids - Hayesville, NC
DESCRIPTION:Super Cruise In for Kids Jackie Jones Dodge/Chrysler/Jeep\
 n\nFor more information visit https://www.southeastwheelsevents.com/ev
 ents/super-cruise-in-for-kids-hayesville-nc
DTSTART;TZID=Pacific/Midway:20210626T110000
DTEND;TZID=Pacific/Midway:20210626T143000
CATEGORIES:car, show, chariry
LOCATION:Jacke Jones Dealership
WEBSITE:https://www.jackyjoneschryslerdodgejeep.com/
URL:https://www.jackyjoneschryslerdodgejeep.com/
CONTACT:Ed Ashe (828) 389-1958
ORGANIZER:
ATTACH;FMTTYPE="image/jpeg":http://storage.ning.com/topology/rest/1.0/
 file/get/967774876?profile=original
ATTENDEE;ROLE=REQ-PARTICIPANT;PARTSTAT=ACCEPTED;RSVP=TRUE;CN="Anthony 
 Hopkins":https://www.southeastwheelsevents.com/profile/AnthonyHopkins
END:VEVENT
END:VCALENDAR
