BEGIN:VCALENDAR
PRODID:NingEventWidget-v1
VERSION:2.0
METHOD:PUBLISH
BEGIN:VTIMEZONE
TZID:Pacific/Midway
X-LIC-LOCATION:Pacific/Midway
BEGIN:STANDARD
TZOFFSETFROM:-1100
TZOFFSETTO:-1100
TZNAME:SST
DTSTART:19700101T000000
END:STANDARD
END:VTIMEZONE
BEGIN:VEVENT
UID:5072275:Event:1103216
DTSTAMP:20260421T034439Z
SUMMARY:Surfside Festival Car Show - Surfside Beach, Sc
DESCRIPTION:Surfside Festival Car Show at The Pier, 11 North Ocean Blv
 d.\n\nFor more information visit https://www.southeastwheelsevents.com
 /events/surfside-festival-car-show-surfside-beach-sc
DTSTART;TZID=Pacific/Midway:20181027T090000
DTEND;TZID=Pacific/Midway:20181027T150000
CATEGORIES:car, show, cruise, in
LOCATION:The Pier,
WEBSITE:https://www.google.co.in/maps?q=11+North+Ocean+Blvd,+Surfside+
 Beach,+Sc&amp;um=1&amp;ie=UTF-8&amp;sa=X&amp;ved=0ahUKEwi1vcCXtMzdAhUD
 qxoKHRLtBMEQ_AUIDigB
URL:https://www.google.co.in/maps?q=11+North+Ocean+Blvd,+Surfside+Beac
 h,+Sc&amp;um=1&amp;ie=UTF-8&amp;sa=X&amp;ved=0ahUKEwi1vcCXtMzdAhUDqxoK
 HRLtBMEQ_AUIDigB
CONTACT:(843) 215-4165, (843) 742-9802
ORGANIZER:Shelia Conroy, Cecil Chandler
ATTACH;FMTTYPE="image/jpeg":http://storage.ning.com/topology/rest/1.0/
 file/get/967802331?profile=original
ATTENDEE;ROLE=REQ-PARTICIPANT;PARTSTAT=ACCEPTED;RSVP=TRUE;CN="Anthony 
 Hopkins":https://www.southeastwheelsevents.com/profile/AnthonyHopkins
END:VEVENT
END:VCALENDAR
