BEGIN:VCALENDAR
PRODID:NingEventWidget-v1
VERSION:2.0
METHOD:PUBLISH
BEGIN:VTIMEZONE
TZID:Pacific/Midway
X-LIC-LOCATION:Pacific/Midway
BEGIN:STANDARD
TZOFFSETFROM:-1100
TZOFFSETTO:-1100
TZNAME:SST
DTSTART:19700101T000000
END:STANDARD
END:VTIMEZONE
BEGIN:VEVENT
UID:5072275:Event:1271458
DTSTAMP:20260423T142749Z
SUMMARY:Suwanee
DESCRIPTION:Northbrook middle school PTSA is looking for a few classic
  car owners to come out and show their cars during our movie night and
  car show. We are trying to get students interested in other things ou
 tside of video games and social media. \n\nFor more information visit
  https://www.southeastwheelsevents.com/events/suwanee
DTSTART;TZID=Pacific/Midway:20251017T173000
DTEND;TZID=Pacific/Midway:20251017T193000
CATEGORIES:northbrook, middle, popcorn, cars, "&amp", stars
LOCATION:Northbrook Middle School
WEBSITE:http://www.northbrookptsa.org
URL:http://www.northbrookptsa.org
CONTACT:6014934034
ORGANIZER;CN="Summer Hutchins":https://www.southeastwheelsevents.com/p
 rofile/SummerHutchins
ATTACH;FMTTYPE="image/jpeg":https://storage.ning.com/topology/rest/1.0
 /file/get/13743931487?profile=original
ATTENDEE;ROLE=REQ-PARTICIPANT;PARTSTAT=ACCEPTED;RSVP=TRUE;CN="Summer H
 utchins":https://www.southeastwheelsevents.com/profile/SummerHutchins
END:VEVENT
END:VCALENDAR
