BEGIN:VCALENDAR
PRODID:NingEventWidget-v1
VERSION:2.0
METHOD:PUBLISH
BEGIN:VTIMEZONE
TZID:Pacific/Midway
X-LIC-LOCATION:Pacific/Midway
BEGIN:STANDARD
TZOFFSETFROM:-1100
TZOFFSETTO:-1100
TZNAME:SST
DTSTART:19700101T000000
END:STANDARD
END:VTIMEZONE
BEGIN:VEVENT
UID:5072275:Event:1179209
DTSTAMP:20260424T084026Z
SUMMARY:SUWANNEE CLASSIC CAR SHOW
DESCRIPTION:As we consider classic automobiles important forms of art,
  we are excited to provide a venue where many types of cars can be sho
 wcased! GENERAL ADMISSION IS FREE. Each registered car is $25. For reg
 istration and all details, visit https://bit.ly/35ers3VAttendees can e
 xpect:- About 150 Classic Cars- Opening Ceremony with cadets from the 
 North Gwinnett- Junior ROTC and the Atlanta Bag Piper- Music by Uptown
  Entertainment- Soldiers—GA State Defense Force- NHRA JR Dragsters- 
 Crime Scene Van- Silent Auction- Paint-a-Wreck- Speed Paint-Out featur
 ing Plein Air Artists- 50/50 Drawing to Win $$This is a rain or shine 
 event.\n\nFor more information visit https://www.southeastwheelsevents
 .com/events/suwannee-classic-car-show
DTSTART;TZID=Pacific/Midway:20191110T100000
DTEND;TZID=Pacific/Midway:20191110T153000
CATEGORIES:classic, car, show
LOCATION:SUWANNEE TOWN CENTER
WEBSITE:
URL:
CONTACT:
ORGANIZER:
ATTACH;FMTTYPE="image/jpeg":https://storage.ning.com/topology/rest/1.0
 /file/get/3662697907?profile=original
ATTENDEE;ROLE=REQ-PARTICIPANT;PARTSTAT=ACCEPTED;RSVP=TRUE;CN="Bill mus
 arra":https://www.southeastwheelsevents.com/profile/billmusarra
ATTENDEE;ROLE=REQ-PARTICIPANT;PARTSTAT=ACCEPTED;RSVP=TRUE;CN=Jeff:http
 s://www.southeastwheelsevents.com/profile/Jeff
ATTENDEE;ROLE=REQ-PARTICIPANT;PARTSTAT=TENTATIVE;RSVP=TRUE;CN="JP Brad
 y":https://www.southeastwheelsevents.com/profile/jpbrady
ATTENDEE;ROLE=REQ-PARTICIPANT;PARTSTAT=TENTATIVE;RSVP=TRUE;CN="Rodney 
 Wallin":https://www.southeastwheelsevents.com/profile/Rodneywallin
ATTENDEE;ROLE=REQ-PARTICIPANT;PARTSTAT=TENTATIVE;RSVP=TRUE;CN="Jeffrey
  Rutherford":https://www.southeastwheelsevents.com/profile/JeffreyRuth
 erford866
END:VEVENT
END:VCALENDAR
