BEGIN:VCALENDAR
PRODID:NingEventWidget-v1
VERSION:2.0
METHOD:PUBLISH
BEGIN:VTIMEZONE
TZID:Pacific/Midway
X-LIC-LOCATION:Pacific/Midway
BEGIN:STANDARD
TZOFFSETFROM:-1100
TZOFFSETTO:-1100
TZNAME:SST
DTSTART:19700101T000000
END:STANDARD
END:VTIMEZONE
BEGIN:VEVENT
UID:5072275:Event:1093830
DTSTAMP:20260423T162126Z
SUMMARY:SVR Cruise In - Loudon, Tn
DESCRIPTION:SVR Cruise In Downtown\n\nFor more information visit https
 ://www.southeastwheelsevents.com/events/svr-cruise-in-loudon-tn
DTSTART;TZID=Pacific/Midway:20180726T173000
DTEND;TZID=Pacific/Midway:20180726T193000
CATEGORIES:car, show, cruise-in
LOCATION:Downtown
WEBSITE:http://loudonparks.com
URL:http://loudonparks.com
CONTACT:(865) 458-7525
ORGANIZER:
ATTACH;FMTTYPE="image/jpeg":http://storage.ning.com/topology/rest/1.0/
 file/get/967788806?profile=original
ATTENDEE;ROLE=REQ-PARTICIPANT;PARTSTAT=ACCEPTED;RSVP=TRUE;CN="Anthony 
 Hopkins":https://www.southeastwheelsevents.com/profile/AnthonyHopkins
END:VEVENT
END:VCALENDAR
