BEGIN:VCALENDAR
PRODID:NingEventWidget-v1
VERSION:2.0
METHOD:PUBLISH
BEGIN:VTIMEZONE
TZID:Pacific/Midway
X-LIC-LOCATION:Pacific/Midway
BEGIN:STANDARD
TZOFFSETFROM:-1100
TZOFFSETTO:-1100
TZNAME:SST
DTSTART:19700101T000000
END:STANDARD
END:VTIMEZONE
BEGIN:VEVENT
UID:5072275:Event:1098121
DTSTAMP:20260423T162548Z
SUMMARY:\"Swap-A-Paluza\" VW Show and Shine - East Ridge, Tn
DESCRIPTION:\"Swap-A-Paluza\" VW Show and Shine and Free Swap Meet at 
 Camp Jordan.\n\nFor more information visit https://www.southeastwheels
 events.com/events/swap-a-paluza-vw-show-and-shine-east-ridge-tn
DTSTART;TZID=Pacific/Midway:20180915T080000
DTEND;TZID=Pacific/Midway:20180915T170000
CATEGORIES:car, show, cruise, in
LOCATION:Camp Jordan,
WEBSITE:http://swapapaluza.com
URL:http://swapapaluza.com
CONTACT:(423) 421-9406
ORGANIZER:
ATTACH;FMTTYPE="image/jpeg":http://storage.ning.com/topology/rest/1.0/
 file/get/967791853?profile=original
ATTENDEE;ROLE=REQ-PARTICIPANT;PARTSTAT=ACCEPTED;RSVP=TRUE;CN="Anthony 
 Hopkins":https://www.southeastwheelsevents.com/profile/AnthonyHopkins
END:VEVENT
END:VCALENDAR
