BEGIN:VCALENDAR
PRODID:NingEventWidget-v1
VERSION:2.0
METHOD:PUBLISH
BEGIN:VTIMEZONE
TZID:Pacific/Midway
X-LIC-LOCATION:Pacific/Midway
BEGIN:STANDARD
TZOFFSETFROM:-1100
TZOFFSETTO:-1100
TZNAME:SST
DTSTART:19700101T000000
END:STANDARD
END:VTIMEZONE
BEGIN:VEVENT
UID:5072275:Event:1180832
DTSTAMP:20260423T195938Z
SUMMARY:Swap Meet at Maggie Valley - Maggie Valley, NC
DESCRIPTION:Open car show with awards. All vendors are welcome.\n\nFor
  more information visit https://www.southeastwheelsevents.com/events/s
 wap-meet-at-maggie-valley-maggie-valley-nc-1
DTSTART;TZID=Pacific/Midway:20200717T080000
DTEND;TZID=Pacific/Midway:20200718T160000
CATEGORIES:car, show, cruise-in
LOCATION:Maggie Valley Festival Grounds,
WEBSITE:https://www.google.com/maps/place/Maggie+Valley+Festival+Groun
 ds/@35.5155047,-83.0863604,17z/data=!3m1!4b1!4m5!3m4!1s0x88596fdc010d5
 819:0x3c41a4c8ce0d28cb!8m2!3d35.5155047!4d-83.0841717
URL:https://www.google.com/maps/place/Maggie+Valley+Festival+Grounds/@
 35.5155047,-83.0863604,17z/data=!3m1!4b1!4m5!3m4!1s0x88596fdc010d5819:
 0x3c41a4c8ce0d28cb!8m2!3d35.5155047!4d-83.0841717
CONTACT:423-608-4519
ORGANIZER:Rodney Buckner
ATTACH;FMTTYPE="image/jpeg":https://storage.ning.com/topology/rest/1.0
 /file/get/2631759957?profile=original
ATTENDEE;ROLE=REQ-PARTICIPANT;PARTSTAT=ACCEPTED;RSVP=TRUE;CN="Anthony 
 Hopkins":https://www.southeastwheelsevents.com/profile/AnthonyHopkins
END:VEVENT
END:VCALENDAR
