BEGIN:VCALENDAR
PRODID:NingEventWidget-v1
VERSION:2.0
METHOD:PUBLISH
BEGIN:VTIMEZONE
TZID:Pacific/Midway
X-LIC-LOCATION:Pacific/Midway
BEGIN:STANDARD
TZOFFSETFROM:-1100
TZOFFSETTO:-1100
TZNAME:SST
DTSTART:19700101T000000
END:STANDARD
END:VTIMEZONE
BEGIN:VEVENT
UID:5072275:Event:488035
DTSTAMP:20260423T153456Z
SUMMARY:SWAP MEET SUNDAY CRUISE IN at Andretti’s -Roswell, GA
DESCRIPTION:SWAP MEET SUNDAY CRUISE IN at Andretti’s\nBringing back 
 the parts to SWAP MEETS, Grease Inc. will be hosting a monthly Cruise 
 In with local shops, builders, retailers and vending.\nMonthly listing
  will be provided on Rumblings of all vendors set up each month!!\nCom
 e out and BUY< SELL or TRADE!!! Live Music! Pin-Up Contest! Cruise-In 
 on 2 or 4 wheels!! Weekly Garage71 trophy awards for Best Engine, Best
  Paint, Best Original Build, Best Car and Best Bike.\nAny vendor inter
 ested in setting up contact info@garage71.com for details.\n\nFor mor
 e information visit https://www.southeastwheelsevents.com/events/swap-
 meet-sunday-cruise-in-at-andretti-s-roswell-ga
DTSTART;TZID=Pacific/Midway:20120401T120000
DTEND;TZID=Pacific/Midway:20120401T170000
CATEGORIES:cruise-in, car, chow, bike, swap-meet
LOCATION:Andretti Indoor Karting & Games
WEBSITE:http://www.garage71.com
URL:http://www.garage71.com
CONTACT:info@garage71.com
ORGANIZER:Garage 71
ATTACH;FMTTYPE="image/jpeg":http://storage.ning.com/topology/rest/1.0/
 file/get/967608784?profile=original
ATTENDEE;ROLE=REQ-PARTICIPANT;PARTSTAT=ACCEPTED;RSVP=TRUE;CN="Michael 
 Thies":https://www.southeastwheelsevents.com/profile/MichaelThies
END:VEVENT
END:VCALENDAR
