BEGIN:VCALENDAR
PRODID:NingEventWidget-v1
VERSION:2.0
METHOD:PUBLISH
BEGIN:VTIMEZONE
TZID:Pacific/Midway
X-LIC-LOCATION:Pacific/Midway
BEGIN:STANDARD
TZOFFSETFROM:-1100
TZOFFSETTO:-1100
TZNAME:SST
DTSTART:19700101T000000
END:STANDARD
END:VTIMEZONE
BEGIN:VEVENT
UID:5072275:Event:834729
DTSTAMP:20260425T033434Z
SUMMARY:Sweet Gum Park Car Show -Ware Shoals, SC
DESCRIPTION:SWEET GUM PARK CAR SHOW   (CAR SHOW)\nALL VEHICLES ARE W
 ELCOME,..REGISTRATION IS $20 WITH AWARDS @ 2, TOP 25, ALSO LIVE MUSIC,
  FOOD BY THE SHRINERS BBQ, DOOR PRIZES, 50/50, FOR MORE INFO CALL 864 
 684-5454,, RAIN DATE IS SUNDAY NEXT DAY 9-28 AND NEW TIME 1 TO 5, NOTE
  HWY 252 OFF OF HWY 25\n\nFor more information visit https://www.south
 eastwheelsevents.com/events/sweet-gum-park-car-show-ware-shoals-sc
DTSTART;TZID=Pacific/Midway:20150926T100000
DTEND;TZID=Pacific/Midway:20150926T140000
CATEGORIES:car-show
LOCATION:SWEET GUM PARK
WEBSITE:
URL:
CONTACT:864 684-5454
ORGANIZER:SWEET GUM PARK
ATTACH;FMTTYPE="image/jpeg":http://storage.ning.com/topology/rest/1.0/
 file/get/967671484?profile=original
ATTENDEE;ROLE=REQ-PARTICIPANT;PARTSTAT=ACCEPTED;RSVP=TRUE;CN="Chuck Aa
 ron":https://www.southeastwheelsevents.com/profile/ChuckAaron
END:VEVENT
END:VCALENDAR
