BEGIN:VCALENDAR
PRODID:NingEventWidget-v1
VERSION:2.0
METHOD:PUBLISH
BEGIN:VTIMEZONE
TZID:Pacific/Midway
X-LIC-LOCATION:Pacific/Midway
BEGIN:STANDARD
TZOFFSETFROM:-1100
TZOFFSETTO:-1100
TZNAME:SST
DTSTART:19700101T000000
END:STANDARD
END:VTIMEZONE
BEGIN:VEVENT
UID:5072275:Event:1242684
DTSTAMP:20260425T081240Z
SUMMARY:Sweetheart Cruise-in, Alpharetta, GA
DESCRIPTION:Are you SICK of WINTER? We are for sure!\r\nJoin us for ou
 r \"Sweetheart Cruise-in\" at our new venue, Gateway Classic Cars in A
 lpharetta.  We will feature our Best Classic, Best Modern and Top 20 
 Popular Choice Awards, Door Prizes, 50/50 Raffle, Music and a Silent A
 uction. We will also have Hot Dogs, Burgers, Hot & Cold Beverages avai
 lable.\r\nAs always, ALL Years-Makes-Models Welcome!\r\nEntry fee is a
  suggested $20 donation that will benefit the fight against Breast Can
 er here in Georgia.\r\nMake your plans to attend!\r\nRain (or Snow) Da
 te: 2/18/23\n\nFor more information visit https://www.southeastwheelse
 vents.com/events/sweetheart-cruise-in-alpharetta-ga-1
DTSTART;TZID=Pacific/Midway:20230211T110000
DTEND;TZID=Pacific/Midway:20230211T150000
CATEGORIES:cruise-in, car, show, charity, fundraiser
LOCATION:Gateway Classic Cars
WEBSITE:http://www.GeorgiaCoolCruisers.org
URL:http://www.GeorgiaCoolCruisers.org
CONTACT:404-732-6842
ORGANIZER:Rick Ellis
ATTACH;FMTTYPE="image/jpeg":https://storage.ning.com/topology/rest/1.0
 /file/get/10953718477?profile=original
ATTENDEE;ROLE=REQ-PARTICIPANT;PARTSTAT=ACCEPTED;RSVP=TRUE;CN="Michael 
 Thies":https://www.southeastwheelsevents.com/profile/MichaelThies
END:VEVENT
END:VCALENDAR
