BEGIN:VCALENDAR
PRODID:NingEventWidget-v1
VERSION:2.0
METHOD:PUBLISH
BEGIN:VTIMEZONE
TZID:Pacific/Midway
X-LIC-LOCATION:Pacific/Midway
BEGIN:STANDARD
TZOFFSETFROM:-1100
TZOFFSETTO:-1100
TZNAME:SST
DTSTART:19700101T000000
END:STANDARD
END:VTIMEZONE
BEGIN:VEVENT
UID:5072275:Event:757847
DTSTAMP:20260422T014627Z
SUMMARY:\"T-Town Show Off\" -Tuscaloosa, AL
DESCRIPTION:Annual \"T-Town Show Off\" -Tuscaloosa, AL\nMcFarland Ave
 nue -Behind University Mall. Exit 73 off 20/59 go north, follow signs,
  Tuscaloosa, Al. Bill@205/246/1977 Jack@205-339-9354   mr.billleonar
 d@live.com\nCar,truck and bike show - Music,food, auction, trophies go
 ody bag, dash plaques first 100. Venders welcome. $20.00 Entry for all
 . \n\n\nFor more information visit https://www.southeastwheelsevents.
 com/events/t-town-show-off-tuscaloosa-al
DTSTART;TZID=Pacific/Midway:20170401T080000
DTEND;TZID=Pacific/Midway:20170401T153000
CATEGORIES:car-show, bike-show
LOCATION:Behind University Mall
WEBSITE:
URL:
CONTACT:205-246-1977, 205-339-9354
ORGANIZER:Bill & Jack
ATTACH;FMTTYPE="image/jpeg":http://storage.ning.com/topology/rest/1.0/
 file/get/967656173?profile=original
ATTENDEE;ROLE=REQ-PARTICIPANT;PARTSTAT=ACCEPTED;RSVP=TRUE;CN="Chuck Aa
 ron":https://www.southeastwheelsevents.com/profile/ChuckAaron
END:VEVENT
END:VCALENDAR
