BEGIN:VCALENDAR
PRODID:NingEventWidget-v1
VERSION:2.0
METHOD:PUBLISH
BEGIN:VTIMEZONE
TZID:Pacific/Midway
X-LIC-LOCATION:Pacific/Midway
BEGIN:STANDARD
TZOFFSETFROM:-1100
TZOFFSETTO:-1100
TZNAME:SST
DTSTART:19700101T000000
END:STANDARD
END:VTIMEZONE
BEGIN:VEVENT
UID:5072275:Event:505478
DTSTAMP:20260420T145647Z
SUMMARY:TAGS & TAILS -McDonough, GA
DESCRIPTION:South Metro Chapter of the Woman's Council of Realtors is 
 sponsorning it's first Car & Bike Show-TAGS & TAILS to benefit the Ho
 meless Pet Foundation...there will be cars, bikes, truck, food, live b
 and, throphies and lots of giveways!\n \nCome join us!\n\nFor more in
 formation visit https://www.southeastwheelsevents.com/events/tags-tail
 s
DTSTART;TZID=Pacific/Midway:20120506T110000
DTEND;TZID=Pacific/Midway:20120506T160000
CATEGORIES:car, and, bike, show
LOCATION:BEHIND HENRY COUNTY CHAMBER'S OFFICE
WEBSITE:
URL:
CONTACT:770-294-9767
ORGANIZER;CN="Mike Upchurch":https://www.southeastwheelsevents.com/pro
 file/MikeUpchurch
ATTACH;FMTTYPE="image/jpeg":http://storage.ning.com/topology/rest/1.0/
 file/get/967615226?profile=original
ATTENDEE;ROLE=REQ-PARTICIPANT;PARTSTAT=ACCEPTED;RSVP=TRUE;CN="Mike Upc
 hurch":https://www.southeastwheelsevents.com/profile/MikeUpchurch
END:VEVENT
END:VCALENDAR
