BEGIN:VCALENDAR
PRODID:NingEventWidget-v1
VERSION:2.0
METHOD:PUBLISH
BEGIN:VTIMEZONE
TZID:Pacific/Midway
X-LIC-LOCATION:Pacific/Midway
BEGIN:STANDARD
TZOFFSETFROM:-1100
TZOFFSETTO:-1100
TZNAME:SST
DTSTART:19700101T000000
END:STANDARD
END:VTIMEZONE
BEGIN:VEVENT
UID:5072275:Event:1024697
DTSTAMP:20260424T065540Z
SUMMARY:Tallahassee Cars and Coffee Meet
DESCRIPTION:Tallahassee Cars and Coffee Meet will be held at Texas Roa
 dhouse, Tallahassee, FL. Cruise-In starts at 8.00am and ends at 10.30a
 m\n\nFor more information visit https://www.southeastwheelsevents.com/
 events/tallahassee-cars-and-coffee-meet
DTSTART;TZID=Pacific/Midway:20161217T080000
DTEND;TZID=Pacific/Midway:20161217T103000
CATEGORIES:cars, "clubs/shows/cruises"
LOCATION:Texas Roadhouse
WEBSITE:http://www.panhandleponies.com/events/
URL:http://www.panhandleponies.com/events/
CONTACT:
ORGANIZER:
ATTACH;FMTTYPE="image/jpeg":
ATTENDEE;ROLE=REQ-PARTICIPANT;PARTSTAT=ACCEPTED;RSVP=TRUE;CN="Chris go
 sney":https://www.southeastwheelsevents.com/profile/Chrisgosney
END:VEVENT
END:VCALENDAR
