BEGIN:VCALENDAR
PRODID:NingEventWidget-v1
VERSION:2.0
METHOD:PUBLISH
BEGIN:VTIMEZONE
TZID:Pacific/Midway
X-LIC-LOCATION:Pacific/Midway
BEGIN:STANDARD
TZOFFSETFROM:-1100
TZOFFSETTO:-1100
TZNAME:SST
DTSTART:19700101T000000
END:STANDARD
END:VTIMEZONE
BEGIN:VEVENT
UID:5072275:Event:548062
DTSTAMP:20260423T115001Z
SUMMARY:Tannehill Bug Blast  -McAlla, AL
DESCRIPTION:Since 2001 Birmingham Alabama area VW owners have had 1 sh
 ow a year to look forward to and this year is no different, we, local 
 VW owners are proud to present in cooperation with Tannehill State Par
 k and our sponsors BUG BLAST 2012!!!!!\nAUGUST 24TH 2013 TANNEHILL STA
 TE PARK McAlla Alabama 8 am till 4 pm  Top 25 Show cars Special awards
  for Club Participation Patina Tetanus Hippiest Campsite Interior Pain
 t Engine Best Of Show Camping available on the show site the night bef
 ore and the night of the show! Please note there is an entry fee to en
 ter Tannehill Park and for camping. Returning this year, our very own 
 Todd Prater spinning the tunes everyone enjoys! Show Shirts $15 Entry 
 Fee ($10 pre-registration) $25 Vendor Fee $5 Swap meet ALL VW'S WELCOM
 ED!!!!\n\n\nFor more information visit https://www.southeastwheelseven
 ts.com/events/tannehill-bug-blast-mcalla-al
DTSTART;TZID=Pacific/Midway:20130824T090000
DTEND;TZID=Pacific/Midway:20130824T160000
CATEGORIES:car-show
LOCATION:Tannehill State Park
WEBSITE:http://www.tannehillbugbalst.com
URL:http://www.tannehillbugbalst.com
CONTACT:(205) 477-5711
ORGANIZER:Central AL VW Club
ATTACH;FMTTYPE="image/jpeg":http://storage.ning.com/topology/rest/1.0/
 file/get/967624401?profile=original
ATTENDEE;ROLE=REQ-PARTICIPANT;PARTSTAT=ACCEPTED;RSVP=TRUE;CN="Michael 
 Thies":https://www.southeastwheelsevents.com/profile/MichaelThies
END:VEVENT
END:VCALENDAR
