BEGIN:VCALENDAR
PRODID:NingEventWidget-v1
VERSION:2.0
METHOD:PUBLISH
BEGIN:VTIMEZONE
TZID:Pacific/Midway
X-LIC-LOCATION:Pacific/Midway
BEGIN:STANDARD
TZOFFSETFROM:-1100
TZOFFSETTO:-1100
TZNAME:SST
DTSTART:19700101T000000
END:STANDARD
END:VTIMEZONE
BEGIN:VEVENT
UID:5072275:Event:823633
DTSTAMP:20260420T073329Z
SUMMARY:Tannehill VolksJam  -McAlla, AL
DESCRIPTION:Since 2001 Birmingham Alabama area VW owners have had 1 sh
 ow a year to look forward to and this year is no different, we, local 
 VW owners are proud to present in cooperation with Tannehill State Par
 k and our sponsors BUG BLAST 2015!!!!!\r\nTANNEHILL STATE PARK McCalla
  Alabama 9 am till 4 pm\r\n  Top 25 Show cars Special awards for Club 
 Participation Patina Tetanus Hippiest Campsite Interior Paint Engine B
 est Of Show Camping available on the show site the night before and th
 e night of the show! Please note there is an entry fee to enter Tanneh
 ill Park and for camping. Returning this year, our very own Todd Prate
 r spinning the tunes everyone enjoys! Show Shirts $15 Entry Fee ($10 p
 re-registration) $25 Vendor Fee $5 Swap meet ALL VW'S WELCOMED!!!!\r\n
 \n\nFor more information visit https://www.southeastwheelsevents.com/e
 vents/tannehill-volksjam-mcalla-al
DTSTART;TZID=Pacific/Midway:20170826T090000
DTEND;TZID=Pacific/Midway:20170826T160000
CATEGORIES:car-show, vw
LOCATION:Tannehill State Park
WEBSITE:http://tannehillvolksjam.com/
URL:http://tannehillvolksjam.com/
CONTACT:(205) 477-5711
ORGANIZER:Central AL VW Club
ATTACH;FMTTYPE="image/jpeg":http://storage.ning.com/topology/rest/1.0/
 file/get/967624401?profile=original
ATTENDEE;ROLE=REQ-PARTICIPANT;PARTSTAT=ACCEPTED;RSVP=TRUE;CN="Chuck Aa
 ron":https://www.southeastwheelsevents.com/profile/ChuckAaron
END:VEVENT
END:VCALENDAR
