BEGIN:VCALENDAR
PRODID:NingEventWidget-v1
VERSION:2.0
METHOD:PUBLISH
BEGIN:VTIMEZONE
TZID:Pacific/Midway
X-LIC-LOCATION:Pacific/Midway
BEGIN:STANDARD
TZOFFSETFROM:-1100
TZOFFSETTO:-1100
TZNAME:SST
DTSTART:19700101T000000
END:STANDARD
END:VTIMEZONE
BEGIN:VEVENT
UID:5072275:Event:637802
DTSTAMP:20260424T082119Z
SUMMARY:Taste of East Point and The South Metro Area -East Point, GA
DESCRIPTION:BBQ, Wings, & Wheels Food Festival & Car Show!  This event
  is all about showcasing the eclectic mix of FOOD, ART and MUSIC in th
 e South Metro Area. Attendees purchase tickets to exchange for “tast
 es” of a wide variety of cuisine from local restaurants and food tru
 cks.\nBrowse art created by local artists while enjoying a margarita 
 or have a beer with friends by the stage and listen to talented local 
 musicians playing original music. Make sure to check out the Custom Ca
 r Show in partnership with Garage71 Radio and Grease, Inc. Magazine t
 oo! Event admission is FREE.\n\nFor more information visit https://www
 .southeastwheelsevents.com/events/taste-of-east-point-anf-the-south-me
 tro-area
DTSTART;TZID=Pacific/Midway:20130427T140000
DTEND;TZID=Pacific/Midway:20130427T210000
CATEGORIES:festival, car, show
LOCATION:Downtown East Point
WEBSITE:http://TasteofEastPoint.com
URL:http://TasteofEastPoint.com
CONTACT:555-555-5555
ORGANIZER:EPMSA
ATTACH;FMTTYPE="image/jpeg":http://storage.ning.com/topology/rest/1.0/
 file/get/967634357?profile=original
ATTENDEE;ROLE=REQ-PARTICIPANT;PARTSTAT=ACCEPTED;RSVP=TRUE;CN="Tina Dha
 rman":https://www.southeastwheelsevents.com/profile/TinaDharman
END:VEVENT
END:VCALENDAR
