BEGIN:VCALENDAR
PRODID:NingEventWidget-v1
VERSION:2.0
METHOD:PUBLISH
BEGIN:VTIMEZONE
TZID:Pacific/Midway
X-LIC-LOCATION:Pacific/Midway
BEGIN:STANDARD
TZOFFSETFROM:-1100
TZOFFSETTO:-1100
TZNAME:SST
DTSTART:19700101T000000
END:STANDARD
END:VTIMEZONE
BEGIN:VEVENT
UID:5072275:Event:205930
DTSTAMP:20260420T135228Z
SUMMARY:Taste of Shiloh -Snellville, GA
DESCRIPTION:Fabulous Taste Feast at Shloh High School on April 16th fr
 om noon to 4 PM.  Three live bands, egg hunt for the kids, motorcycle
  show, playground for the children, 37 restaurants, silent auction.  
 There is a 5K road race starting at 7 AM, Arts Festival from 10 until 
 noon, then the feast!  Tickets to sample the food is $10 for eight sa
 mples.  All other events are FREE!\nLooking for old classic cars to s
 how. If interested, please contact us at www.tasteofshiloh@hotmail.com
 .  We'll feed you for free.  Bring the kids, the grandchildren and e
 njoy the day. \n\nFor more information visit https://www.southeastwhe
 elsevents.com/events/taste-of-shiloh-snellville-ga
DTSTART;TZID=Pacific/Midway:20110416T000000
DTEND;TZID=Pacific/Midway:20110416T235900
CATEGORIES:fundraiser
LOCATION:Shiloh High School
WEBSITE:http://www.shilohcommunityfoundation.org
URL:http://www.shilohcommunityfoundation.org
CONTACT:678/372-9257
ORGANIZER;CN="Adie Shimandle":https://www.southeastwheelsevents.com/pr
 ofile/AdieShimandle
ATTACH;FMTTYPE="image/jpeg":
ATTENDEE;ROLE=REQ-PARTICIPANT;PARTSTAT=ACCEPTED;RSVP=TRUE;CN="Gregory 
 Talbott Jr.":https://www.southeastwheelsevents.com/profile/GregoryTalb
 ottJr
ATTENDEE;ROLE=REQ-PARTICIPANT;PARTSTAT=ACCEPTED;RSVP=TRUE;CN="Adie Shi
 mandle":https://www.southeastwheelsevents.com/profile/AdieShimandle
ATTENDEE;ROLE=REQ-PARTICIPANT;PARTSTAT=TENTATIVE;RSVP=TRUE;CN="Richard
  Scott":https://www.southeastwheelsevents.com/profile/RichardScott
END:VEVENT
END:VCALENDAR
