BEGIN:VCALENDAR
PRODID:NingEventWidget-v1
VERSION:2.0
METHOD:PUBLISH
BEGIN:VTIMEZONE
TZID:Pacific/Midway
X-LIC-LOCATION:Pacific/Midway
BEGIN:STANDARD
TZOFFSETFROM:-1100
TZOFFSETTO:-1100
TZNAME:SST
DTSTART:19700101T000000
END:STANDARD
END:VTIMEZONE
BEGIN:VEVENT
UID:5072275:Event:837721
DTSTAMP:20260423T160446Z
SUMMARY:Toys 4 Tots Car & Bike Show -Jacksonville, FL
DESCRIPTION:Team LoeRider Auto Club Fl Presents: Toys 4Tots Car & Bike
  Show\nPlease join our Team for our Annual Toy Drive & CAR/BIKE SHOW  
 Toys will be donated to Wolfons Children Hospital!   Help us help our
  community children and those less fortunate so they can have a Merry 
 Christmas.\nRoll In @ 10am\nRegistration ends at 2pm\nAdmission: $5.00
  with a toy or $10.00 without a toy Donate new unwrapped toy *Each toy
  donated will receive a free raffle ticket*  Top 20 Kids Choice People
 's Choice LoeRider Ladyz Choice Santa's Choice Vendor's Choice Best Cl
 ub Representation (5 or more) Best of Show  **Raffles**Food**Music**Sa
 nta**Models**\n#teamloeriderac #teamloeridercarshow #teamloeridertoys4
 tots\n\nFor more information visit https://www.southeastwheelsevents.c
 om/events/team-loerider-auto-club-fl-presents-toys4tots-car-bike-show
DTSTART;TZID=Pacific/Midway:20141206T110000
DTEND;TZID=Pacific/Midway:20141206T160000
CATEGORIES:toy, drive
LOCATION:Old Kmart Plaza
WEBSITE:http://www.facebook.com/events/1543490939200280
URL:http://www.facebook.com/events/1543490939200280
CONTACT:904-333-5138
ORGANIZER;CN="Ana Viruet Maysonet":https://www.southeastwheelsevents.c
 om/profile/AnaViruetMaysonet
ATTACH;FMTTYPE="image/jpeg":http://storage.ning.com/topology/rest/1.0/
 file/get/967674758?profile=original
ATTENDEE;ROLE=REQ-PARTICIPANT;PARTSTAT=ACCEPTED;RSVP=TRUE;CN="Ana Viru
 et Maysonet":https://www.southeastwheelsevents.com/profile/AnaViruetMa
 ysonet
END:VEVENT
END:VCALENDAR
