BEGIN:VCALENDAR
PRODID:NingEventWidget-v1
VERSION:2.0
METHOD:PUBLISH
BEGIN:VTIMEZONE
TZID:Pacific/Midway
X-LIC-LOCATION:Pacific/Midway
BEGIN:STANDARD
TZOFFSETFROM:-1100
TZOFFSETTO:-1100
TZNAME:SST
DTSTART:19700101T000000
END:STANDARD
END:VTIMEZONE
BEGIN:VEVENT
UID:5072275:Event:1043555
DTSTAMP:20260420T044716Z
SUMMARY:Team Promotion (Bikes)
DESCRIPTION:CMP has special events, races, and rental karts year round
 . Some events close the track to the public and others encourage parti
 cipation or spectators. So check out our schedule and plan a time to v
 isit ... CMP is dog and family friendly!\n\nFor more information visit
  https://www.southeastwheelsevents.com/events/team-promotion-bikes
DTSTART;TZID=Pacific/Midway:20170513T000000
DTEND;TZID=Pacific/Midway:20170513T235900
CATEGORIES:race
LOCATION:Carolina Motorsports Park
WEBSITE:http://www.carolinamotorsportspark.com/
URL:http://www.carolinamotorsportspark.com/
CONTACT:864-561-6668
ORGANIZER:
ATTACH;FMTTYPE="image/jpeg":http://storage.ning.com/topology/rest/1.0/
 file/get/967744779?profile=original
ATTENDEE;ROLE=REQ-PARTICIPANT;PARTSTAT=ACCEPTED;RSVP=TRUE;CN="Christop
 her Gosney":https://www.southeastwheelsevents.com/profile/ChristopherG
 osney
END:VEVENT
END:VCALENDAR
