BEGIN:VCALENDAR
PRODID:NingEventWidget-v1
VERSION:2.0
METHOD:PUBLISH
BEGIN:VTIMEZONE
TZID:Pacific/Midway
X-LIC-LOCATION:Pacific/Midway
BEGIN:STANDARD
TZOFFSETFROM:-1100
TZOFFSETTO:-1100
TZNAME:SST
DTSTART:19700101T000000
END:STANDARD
END:VTIMEZONE
BEGIN:VEVENT
UID:5072275:Event:1042651
DTSTAMP:20260423T000018Z
SUMMARY:Test and Tune
DESCRIPTION:Northeast Dragway's Friday night's Test and Tunes will sta
 rt Friday April 7th! Come out and test those winter mods before starti
 ng the first point's race. Testing beside your competitor makes for an
  exciting night! Gates open at 7pm with runs from 8-11pm\n\nFor more i
 nformation visit https://www.southeastwheelsevents.com/events/test-and
 -tune-7
DTSTART;TZID=Pacific/Midway:20170407T000000
DTEND;TZID=Pacific/Midway:20170407T235900
CATEGORIES:race
LOCATION:Northeast Dragway
WEBSITE:http://www.northeastdragway.net/
URL:http://www.northeastdragway.net/
CONTACT:(252) 333-8442
ORGANIZER:
ATTACH;FMTTYPE="image/jpeg":http://storage.ning.com/topology/rest/1.0/
 file/get/967743611?profile=original
ATTENDEE;ROLE=REQ-PARTICIPANT;PARTSTAT=ACCEPTED;RSVP=TRUE;CN="Christop
 her Gosney":https://www.southeastwheelsevents.com/profile/ChristopherG
 osney
END:VEVENT
END:VCALENDAR
