BEGIN:VCALENDAR
PRODID:NingEventWidget-v1
VERSION:2.0
METHOD:PUBLISH
BEGIN:VTIMEZONE
TZID:Pacific/Midway
X-LIC-LOCATION:Pacific/Midway
BEGIN:STANDARD
TZOFFSETFROM:-1100
TZOFFSETTO:-1100
TZNAME:SST
DTSTART:19700101T000000
END:STANDARD
END:VTIMEZONE
BEGIN:VEVENT
UID:5072275:Event:1041317
DTSTAMP:20260423T155523Z
SUMMARY:Test N Tune
DESCRIPTION:Gates open at 5:30 p.m.Track runs 6-10 p.m.$25.00 to Run$1
 0.00 for Crew / SpectatorsChildren 12 & Under FREE\n\n\nFor more infor
 mation visit https://www.southeastwheelsevents.com/events/test-n-tune-
 5
DTSTART;TZID=Pacific/Midway:20170504T000000
DTEND;TZID=Pacific/Midway:20170504T235900
CATEGORIES:race
LOCATION:Memphis International Raceway
WEBSITE:http://racemir.com/
URL:http://racemir.com/
CONTACT:901.969.7223
ORGANIZER:
ATTACH;FMTTYPE="image/jpeg":http://storage.ning.com/topology/rest/1.0/
 file/get/967740840?profile=original
ATTENDEE;ROLE=REQ-PARTICIPANT;PARTSTAT=ACCEPTED;RSVP=TRUE;CN="Christop
 her Gosney":https://www.southeastwheelsevents.com/profile/ChristopherG
 osney
END:VEVENT
END:VCALENDAR
