BEGIN:VCALENDAR
PRODID:NingEventWidget-v1
VERSION:2.0
METHOD:PUBLISH
BEGIN:VTIMEZONE
TZID:Pacific/Midway
X-LIC-LOCATION:Pacific/Midway
BEGIN:STANDARD
TZOFFSETFROM:-1100
TZOFFSETTO:-1100
TZNAME:SST
DTSTART:19700101T000000
END:STANDARD
END:VTIMEZONE
BEGIN:VEVENT
UID:5072275:Event:1155626
DTSTAMP:20260423T102809Z
SUMMARY:The 20th Annual Buford ACE Classic Cruise-In and Show! -Sugar 
 Hill, GA
DESCRIPTION:[(All Benefits the North Gwinnett Food Bank Co-op)].\r\n
  \r\nSaturday November 2nd , 2019 10:00 am. 3:00 pm.\r\nThe 20th An
 nual Buford ACE Classic Cruise-In and Show!\r\nAt Sugar Hill Church 
 Parking Lot off (Hwy20)\r\n.5091 Nelson Brogden Rd. Sugar Hill, Ga.30
 518\r\nModified cars , Vintage Cars, Street Rods, Muscle Cars, *Moto
 rcycles*,\r\n Race cars, Rare Rides of all kinds and yes Classic Driv
 ers Too!\r\nOldies DJ  , Tons of Door Prizes ,Silent Auction , and 
 Fun for the Whole Family.\r\nOptional $25 Judging entry donation. $10
 .00 Cruising donation\r\n{Vendors Wanted} $100. per Parking space C
 harity's $50 per parking space\r\n Vendor Donations Non-Refundable 
 Including for Weather.\r\n \r\n www.bufordaceclassiccarshow.com\r\n
  CONTACT@BUFORDACECARSHOW.COM\r\nWWW.FACEBOOK.COM/SSACEHARDWARE\r\n 
 \r\n[(All Benefits the North Gwinnett Food Bank Co-op)].\n\nFor more
  information visit https://www.southeastwheelsevents.com/events/the-20
 th-annual-buford-ace-classic-cruise-in-and-show-1
DTSTART;TZID=Pacific/Midway:20191102T100000
DTEND;TZID=Pacific/Midway:20191102T150000
CATEGORIES:charity, car, show, and, bike
LOCATION:Sugar Hill Church Parking Lot off (Hwy20)
WEBSITE:http://www.bufordaceclassiccarshow.com/
URL:http://www.bufordaceclassiccarshow.com/
CONTACT:7709321458
ORGANIZER;CN="joe gagnon":https://www.southeastwheelsevents.com/profil
 e/joegagnon
ATTACH;FMTTYPE="image/jpeg":https://storage.ning.com/topology/rest/1.0
 /file/get/3686566612?profile=original
ATTENDEE;ROLE=REQ-PARTICIPANT;PARTSTAT=ACCEPTED;RSVP=TRUE;CN="joe gagn
 on":https://www.southeastwheelsevents.com/profile/joegagnon
ATTENDEE;ROLE=REQ-PARTICIPANT;PARTSTAT=ACCEPTED;RSVP=TRUE;CN="Bill mus
 arra":https://www.southeastwheelsevents.com/profile/billmusarra
END:VEVENT
END:VCALENDAR
