BEGIN:VCALENDAR
PRODID:NingEventWidget-v1
VERSION:2.0
METHOD:PUBLISH
BEGIN:VTIMEZONE
TZID:Pacific/Midway
X-LIC-LOCATION:Pacific/Midway
BEGIN:STANDARD
TZOFFSETFROM:-1100
TZOFFSETTO:-1100
TZNAME:SST
DTSTART:19700101T000000
END:STANDARD
END:VTIMEZONE
BEGIN:VEVENT
UID:5072275:Event:1239574
DTSTAMP:20260420T214526Z
SUMMARY:The 2nd Annual Whip Addict Car Show -Atlanta, GA
DESCRIPTION:\n\nFor more information visit https://www.southeastwheels
 events.com/events/the-2nd-annual-whip-addict-car-show-atlanta-ga
DTSTART;TZID=Pacific/Midway:20221008T130000
DTEND;TZID=Pacific/Midway:20221008T200000
CATEGORIES:car, shoe, festival
LOCATION:The Home Depot Backyard
WEBSITE:
URL:
CONTACT:404-903-8800
ORGANIZER:Seneca Jenkins
ATTACH;FMTTYPE="image/jpeg":https://storage.ning.com/topology/rest/1.0
 /file/get/10836013481?profile=original
ATTENDEE;ROLE=REQ-PARTICIPANT;PARTSTAT=ACCEPTED;RSVP=TRUE;CN="Chuck Aa
 ron":https://www.southeastwheelsevents.com/profile/ChuckAaron886
END:VEVENT
END:VCALENDAR
