BEGIN:VCALENDAR
PRODID:NingEventWidget-v1
VERSION:2.0
METHOD:PUBLISH
BEGIN:VTIMEZONE
TZID:Pacific/Midway
X-LIC-LOCATION:Pacific/Midway
BEGIN:STANDARD
TZOFFSETFROM:-1100
TZOFFSETTO:-1100
TZNAME:SST
DTSTART:19700101T000000
END:STANDARD
END:VTIMEZONE
BEGIN:VEVENT
UID:5072275:Event:1231986
DTSTAMP:20260422T153440Z
SUMMARY:The 38th Annual L.A. 356/VW Lit & Toy Show -Los Angles, CA
DESCRIPTION:\r\n\r\nLiterature, Toy, and Memorabilia Show for Porsches
  and Vintage VW's\r\n\r\n\r\n\r\n\r\nSaturday, February 26th, 2022 at 
 the LAX Hilton Hotel\r\n\r\n\r\n\r\n\r\n\r\nPresented by Stoddard\r\n\
 r\n\r\n\n\nFor more information visit https://www.southeastwheelsevent
 s.com/events/the-38th-annual-l-a-lit-toy-show-los-angles-ca
DTSTART;TZID=Pacific/Midway:20220226T070000
DTEND;TZID=Pacific/Midway:20220226T190000
CATEGORIES:car, show, literuature, convention, toys, tools, parts
LOCATION:LAX Hilton Hotel
WEBSITE:https://www.lalitandtoyshow.com/
URL:https://www.lalitandtoyshow.com/
CONTACT:(800) ­342 ­1414 | (440) 869-9890 | LALit@Stoddard.com
ORGANIZER:Stoddard
ATTACH;FMTTYPE="image/jpeg":https://storage.ning.com/topology/rest/1.0
 /file/get/10055678062?profile=original
ATTENDEE;ROLE=REQ-PARTICIPANT;PARTSTAT=ACCEPTED;RSVP=TRUE;CN="Chuck Aa
 ron":https://www.southeastwheelsevents.com/profile/ChuckAaron886
END:VEVENT
END:VCALENDAR
