BEGIN:VCALENDAR
PRODID:NingEventWidget-v1
VERSION:2.0
METHOD:PUBLISH
BEGIN:VTIMEZONE
TZID:Pacific/Midway
X-LIC-LOCATION:Pacific/Midway
BEGIN:STANDARD
TZOFFSETFROM:-1100
TZOFFSETTO:-1100
TZNAME:SST
DTSTART:19700101T000000
END:STANDARD
END:VTIMEZONE
BEGIN:VEVENT
UID:5072275:Event:887796
DTSTAMP:20260425T114839Z
SUMMARY:The 5th Annual What Would Jesus Drive Car Show
DESCRIPTION:\n\n5 YEARS STRONG!!!!\nYou're invited to our 5th Annual W
 hat Would Jesus Drive (#WWJD5) Car Show!\nSaturday, June 13th, 2015 fr
 om 1pm-5pm!   There will be Trophies, Free Giveaways, Raffles, Kid's R
 ecreation Area, Live DJ, Food, and much more!\n(We will post the offic
 ial award-winning categories later this month!)  All years, makes, and
  models are welcome! Car Show entry is ONLY $10!\n\nThis is one of THE
  MOST ANTICIPATED EVENTS OF THE YEAR!   Hope to See You There!!\n\nFB 
 Event Link:\nhttps://www.facebook.com/events/440670332767908/\n\nFor m
 ore information visit https://www.southeastwheelsevents.com/events/the
 -5th-annual-what-would-jesus-drive-car-show
DTSTART;TZID=Pacific/Midway:20150613T130000
DTEND;TZID=Pacific/Midway:20150613T170000
CATEGORIES:car, "show/community", event
LOCATION:The Covenant Church
WEBSITE:http://www.thecovenantatl.org
URL:http://www.thecovenantatl.org
CONTACT:404-289-8960
ORGANIZER:Quincy Carswell/The Covenant Church
ATTACH;FMTTYPE="image/jpeg":http://storage.ning.com/topology/rest/1.0/
 file/get/967688119?profile=original
ATTENDEE;ROLE=REQ-PARTICIPANT;PARTSTAT=ACCEPTED;RSVP=TRUE;CN="Chuck Aa
 ron":https://www.southeastwheelsevents.com/profile/ChuckAaron
ATTENDEE;ROLE=REQ-PARTICIPANT;PARTSTAT=ACCEPTED;RSVP=TRUE;CN="Quincy C
 arswell":https://www.southeastwheelsevents.com/profile/QuincyCarswell
ATTENDEE;ROLE=REQ-PARTICIPANT;PARTSTAT=TENTATIVE;RSVP=TRUE;CN="Michael
  Thies":https://www.southeastwheelsevents.com/profile/MichaelThies
END:VEVENT
END:VCALENDAR
