BEGIN:VCALENDAR
PRODID:NingEventWidget-v1
VERSION:2.0
METHOD:PUBLISH
BEGIN:VTIMEZONE
TZID:Pacific/Midway
X-LIC-LOCATION:Pacific/Midway
BEGIN:STANDARD
TZOFFSETFROM:-1100
TZOFFSETTO:-1100
TZNAME:SST
DTSTART:19700101T000000
END:STANDARD
END:VTIMEZONE
BEGIN:VEVENT
UID:5072275:Event:823519
DTSTAMP:20260423T145303Z
SUMMARY:The 7th Annual Shine & Show -Loganville, GA
DESCRIPTION:Open Show ANY Car or Truck ANY Year Make or Model\n   
          Please support our Great Sponsors! \n\nEntry Fee $25
 .00        Proceeds to Benefit our 2014 Charity\n       
                             Gwinnett Commun
 ity Clinic\nRegistration 9AM - 11AM     Show Time - 9Am - 3PM\nDas
 h Plaques to first 100\nMusic by our Club DJ - Bob \"Wulfman\" Wulf\nF
 ood and Drinks available\n\nThis is a Judged Show!\nTrophies - Best To
 p 30 - Plus\nBest Corvette          Best Chevrolet\nBest Ford
                 Best Camaro\nBest Mustang       
   Best Mopar\nBest Custom Rod   Best Truck\nBest Import      
        Best Rat Rod\nBest B.O.P.\n\nRain Date: Oct. 18th\n\nFor 
 more information visit https://www.southeastwheelsevents.com/events/th
 e-6th-annual-shine-show-1
DTSTART;TZID=Pacific/Midway:20141011T090000
DTEND;TZID=Pacific/Midway:20141011T150000
CATEGORIES:fundraiser
LOCATION:Home Depot/NAPA/Kauffman Tire
WEBSITE:http://wwwcorvettecruisersofatlanta.com
URL:http://wwwcorvettecruisersofatlanta.com
CONTACT:404-421-4429
ORGANIZER:Corvette Cruisers of Atlanta
ATTACH;FMTTYPE="image/jpeg":http://storage.ning.com/topology/rest/1.0/
 file/get/967668468?profile=original
ATTENDEE;ROLE=REQ-PARTICIPANT;PARTSTAT=ACCEPTED;RSVP=TRUE;CN="Dan Blac
 k":https://www.southeastwheelsevents.com/profile/DanBlack
ATTENDEE;ROLE=REQ-PARTICIPANT;PARTSTAT=ACCEPTED;RSVP=TRUE;CN="Robert d
 eleon":https://www.southeastwheelsevents.com/profile/Robertdeleon
ATTENDEE;ROLE=REQ-PARTICIPANT;PARTSTAT=TENTATIVE;RSVP=TRUE;CN="Michael
  Thies":https://www.southeastwheelsevents.com/profile/MichaelThies
ATTENDEE;ROLE=REQ-PARTICIPANT;PARTSTAT=TENTATIVE;RSVP=TRUE;CN="Bill mu
 sarra":https://www.southeastwheelsevents.com/profile/billmusarra
END:VEVENT
END:VCALENDAR
