BEGIN:VCALENDAR
PRODID:NingEventWidget-v1
VERSION:2.0
METHOD:PUBLISH
BEGIN:VTIMEZONE
TZID:Pacific/Midway
X-LIC-LOCATION:Pacific/Midway
BEGIN:STANDARD
TZOFFSETFROM:-1100
TZOFFSETTO:-1100
TZNAME:SST
DTSTART:19700101T000000
END:STANDARD
END:VTIMEZONE
BEGIN:VEVENT
UID:5072275:Event:446165
DTSTAMP:20260422T224807Z
SUMMARY:the all chevy supernationals III pigeon forge,tenn.
DESCRIPTION:all hevy car and truck show\n\nFor more information visit 
 https://www.southeastwheelsevents.com/events/the-all-chevy-supernation
 als-iii
DTSTART;TZID=Pacific/Midway:20120615T080000
DTEND;TZID=Pacific/Midway:20120616T160000
CATEGORIES:chevy, car, and, truck, show
LOCATION:pigeon forge
WEBSITE:http://www.allchevysupernationals.com
URL:http://www.allchevysupernationals.com
CONTACT:423-623-2723
ORGANIZER;CN="rodney buckner":https://www.southeastwheelsevents.com/pr
 ofile/rodneybuckner
ATTACH;FMTTYPE="image/jpeg":
ATTENDEE;ROLE=REQ-PARTICIPANT;PARTSTAT=ACCEPTED;RSVP=TRUE;CN="rodney b
 uckner":https://www.southeastwheelsevents.com/profile/rodneybuckner
END:VEVENT
END:VCALENDAR
