BEGIN:VCALENDAR
PRODID:NingEventWidget-v1
VERSION:2.0
METHOD:PUBLISH
BEGIN:VTIMEZONE
TZID:Pacific/Midway
X-LIC-LOCATION:Pacific/Midway
BEGIN:STANDARD
TZOFFSETFROM:-1100
TZOFFSETTO:-1100
TZNAME:SST
DTSTART:19700101T000000
END:STANDARD
END:VTIMEZONE
BEGIN:VEVENT
UID:5072275:Event:1225639
DTSTAMP:20260423T070550Z
SUMMARY:The Ansley Foundation Car Show Against Childhood Cancer
DESCRIPTION:The Ansley Foundation is excited to host our third car sho
 w against childhood cancer at Pizza Shack on September 11, 2021! All m
 akes and models are welcome! Come join the fun beginning at 3:00 p.m. 
 with lots of beautiful cars, great food, t-shirts, 50/50 drawing, awar
 ds and cash prizes for the winners! Your registration fee per vehicle 
 includes one t-shirt.\n All proceeds benefit the AFLAC Cancer & Blood 
 Disorders Center at Children’s Healthcare of Atlanta and funding res
 earch to find a cure for pediatric cancer in memory of Ansley Cochran.
  We hope to see you there!\nwww.theansleyfoundation.org\n\nFor more in
 formation visit https://www.southeastwheelsevents.com/events/the-ansle
 y-foundation-car-show-against-childhood-cancer-1
DTSTART;TZID=Pacific/Midway:20210911T150000
DTEND;TZID=Pacific/Midway:20210911T200000
CATEGORIES:car, show
LOCATION:Pizza Shack
WEBSITE:
URL:
CONTACT:7706170415
ORGANIZER:The Ansley Foundation
ATTACH;FMTTYPE="image/jpeg":https://storage.ning.com/topology/rest/1.0
 /file/get/9061581882?profile=original
ATTENDEE;ROLE=REQ-PARTICIPANT;PARTSTAT=ACCEPTED;RSVP=TRUE;CN="DONNA CO
 CHRAN":https://www.southeastwheelsevents.com/profile/DONNACOCHRAN
ATTENDEE;ROLE=REQ-PARTICIPANT;PARTSTAT=TENTATIVE;RSVP=TRUE;CN="Bill mu
 sarra":https://www.southeastwheelsevents.com/profile/billmusarra
END:VEVENT
END:VCALENDAR
