BEGIN:VCALENDAR
PRODID:NingEventWidget-v1
VERSION:2.0
METHOD:PUBLISH
BEGIN:VTIMEZONE
TZID:Pacific/Midway
X-LIC-LOCATION:Pacific/Midway
BEGIN:STANDARD
TZOFFSETFROM:-1100
TZOFFSETTO:-1100
TZNAME:SST
DTSTART:19700101T000000
END:STANDARD
END:VTIMEZONE
BEGIN:VEVENT
UID:5072275:Event:734695
DTSTAMP:20260419T013157Z
SUMMARY:The Blue Knights Cops & Rodder Car, Truck, & Motorcycle Show -
 Kennesaw, GA
DESCRIPTION:http://www.specialolympicsga.org/copsandrodders/     Th
 e Blue Knights Cops & Rodders Car, Truck, and Motorcycle Show for Spec
 ial Olympics, will be held on March 22, 2014. 10AM until 4PM.    NEW 
 LOCATION> 1750 N. Roberts Rd. NW, Kennesaw,30144 (Old U.S. 41 @ Cobb P
 kwy) Electric Cowboy Parking Lot.  $20 Pre-Entry Fee before March 21st
  at 5PM or $25.00 Day of the Show Entry Fee.     All types of motor
 ized vehicles may be entered.  All Entrants will be eligible to win t
 he $500 award at end of show drawing, must be present to win.  All f
 unds raised at show go to Georgia Special Olympics.  Pre-register at.
 ...\nhttp://www.specialolympicsga.org/copsandrodders/\n\nFor more info
 rmation visit https://www.southeastwheelsevents.com/events/the-blue-kn
 ights-cops-rodder-car-truck-and-motorcycle-show
DTSTART;TZID=Pacific/Midway:20140322T100000
DTEND;TZID=Pacific/Midway:20140322T160000
CATEGORIES:a, cruz-in, to, raise, funds, for, special, olympics
LOCATION:Electric Cowboy Parking Lot,
WEBSITE:http://www.specialolympicsga.org/copsandrodders/
URL:http://www.specialolympicsga.org/copsandrodders/
CONTACT:770-823-9566
ORGANIZER;CN="Dan Wade":https://www.southeastwheelsevents.com/profile/
 DanWade
ATTACH;FMTTYPE="image/jpeg":http://storage.ning.com/topology/rest/1.0/
 file/get/967653426?profile=original
ATTENDEE;ROLE=REQ-PARTICIPANT;PARTSTAT=ACCEPTED;RSVP=TRUE;CN="Brian Kr
 euser":https://www.southeastwheelsevents.com/profile/BrianKreuser
ATTENDEE;ROLE=REQ-PARTICIPANT;PARTSTAT=ACCEPTED;RSVP=TRUE;CN="Michael 
 Ruffalo":https://www.southeastwheelsevents.com/profile/MichaelRuffalo
ATTENDEE;ROLE=REQ-PARTICIPANT;PARTSTAT=ACCEPTED;RSVP=TRUE;CN="Greg Fos
 ter":https://www.southeastwheelsevents.com/profile/GregFoster
ATTENDEE;ROLE=REQ-PARTICIPANT;PARTSTAT=ACCEPTED;RSVP=TRUE;CN="Steve Sm
 ith":https://www.southeastwheelsevents.com/profile/SteveSmith818
ATTENDEE;ROLE=REQ-PARTICIPANT;PARTSTAT=ACCEPTED;RSVP=TRUE;CN="Mack Tur
 ner":https://www.southeastwheelsevents.com/profile/MackTurner687
ATTENDEE;ROLE=REQ-PARTICIPANT;PARTSTAT=ACCEPTED;RSVP=TRUE;CN="Michael 
 Thies":https://www.southeastwheelsevents.com/profile/MichaelThies
ATTENDEE;ROLE=REQ-PARTICIPANT;PARTSTAT=ACCEPTED;RSVP=TRUE;CN="Jeff Rut
 herford":https://www.southeastwheelsevents.com/profile/JeffreyRutherfo
 rd
ATTENDEE;ROLE=REQ-PARTICIPANT;PARTSTAT=ACCEPTED;RSVP=TRUE;CN="Dan Wade
 ":https://www.southeastwheelsevents.com/profile/DanWade
ATTENDEE;ROLE=REQ-PARTICIPANT;PARTSTAT=TENTATIVE;RSVP=TRUE;CN="JP Brad
 y":https://www.southeastwheelsevents.com/profile/jpbrady
ATTENDEE;ROLE=REQ-PARTICIPANT;PARTSTAT=TENTATIVE;RSVP=TRUE;CN="Bill mu
 sarra":https://www.southeastwheelsevents.com/profile/billmusarra
ATTENDEE;ROLE=REQ-PARTICIPANT;PARTSTAT=TENTATIVE;RSVP=TRUE;CN="Lynn Lo
 mas":https://www.southeastwheelsevents.com/profile/LynnLomas
END:VEVENT
END:VCALENDAR
