BEGIN:VCALENDAR
PRODID:NingEventWidget-v1
VERSION:2.0
METHOD:PUBLISH
BEGIN:VTIMEZONE
TZID:Pacific/Midway
X-LIC-LOCATION:Pacific/Midway
BEGIN:STANDARD
TZOFFSETFROM:-1100
TZOFFSETTO:-1100
TZNAME:SST
DTSTART:19700101T000000
END:STANDARD
END:VTIMEZONE
BEGIN:VEVENT
UID:5072275:Event:1093265
DTSTAMP:20260419T011022Z
SUMMARY:Callahan Cruise In - Callahan, Fl
DESCRIPTION:Dick's Wings\n\nFor more information visit https://www.sou
 theastwheelsevents.com/events/the-callahan-cruise-in-boaz-al-2
DTSTART;TZID=Pacific/Midway:20180908T180000
DTEND;TZID=Pacific/Midway:20180908T210000
CATEGORIES:car, show, cruise-in
LOCATION:Dick's Wings,
WEBSITE:https://www.google.co.in/maps/place/Dick&amp;amp;amp;#039;s+Wi
 ngs+And+Grill+Callahan/@30.5684128,-81.8288279,17z/data=!3m1!4b1!4m5!3
 m4!1s0x88e5a19f3d96c87f:0xc584ec198d5850cc!8m2!3d30.5684082!4d-81.8266
 392
URL:https://www.google.co.in/maps/place/Dick&amp;amp;amp;#039;s+Wings+
 And+Grill+Callahan/@30.5684128,-81.8288279,17z/data=!3m1!4b1!4m5!3m4!1
 s0x88e5a19f3d96c87f:0xc584ec198d5850cc!8m2!3d30.5684082!4d-81.8266392
CONTACT:(904)-654- 2918
ORGANIZER:
ATTACH;FMTTYPE="image/jpeg":http://storage.ning.com/topology/rest/1.0/
 file/get/967785656?profile=original
ATTENDEE;ROLE=REQ-PARTICIPANT;PARTSTAT=ACCEPTED;RSVP=TRUE;CN="Anthony 
 Hopkins":https://www.southeastwheelsevents.com/profile/AnthonyHopkins
END:VEVENT
END:VCALENDAR
