BEGIN:VCALENDAR
PRODID:NingEventWidget-v1
VERSION:2.0
METHOD:PUBLISH
BEGIN:VTIMEZONE
TZID:Pacific/Midway
X-LIC-LOCATION:Pacific/Midway
BEGIN:STANDARD
TZOFFSETFROM:-1100
TZOFFSETTO:-1100
TZNAME:SST
DTSTART:19700101T000000
END:STANDARD
END:VTIMEZONE
BEGIN:VEVENT
UID:5072275:Event:885625
DTSTAMP:20260425T115018Z
SUMMARY:The Car and Bike Show -Palatka, FL
DESCRIPTION:The Car and Bike Show Event will be held at the Walmart S
 hopping Center Parking Lot in Palatka, Florida on June 6th, 2015. Bene
 fit: Family Resource Connection (FRC) is a non-profit organization th
 at answers the complex needs of children suffering from maltreatment a
 nd separated from their families due to chemical dependency, abuse, ne
 glect and divorce.  Location: -Walmart Shopping Center Parking Lot in
  Palatka, Florida (1024 So. State Road, Palatka, FL)  Benefit Car,Bike
  show and Event at the Palatka Wal-Mart Shopping Center. Everyone is w
 elcome to enjoy a great time with awesome custom cars and bikes, selec
 t vendors,food, and lots more. Fundraiser to assist Family Resource C
 onnection!   Event Hours: -Registration starts at 8:00am -Awards at 4
 :00pm  Please Contact For More Information: -Info: call 407-484-2159 -
 Donations accepted 386-385-5093\n-\n\n10X10 $25, double $40. Merchandi
 se and snacks, desserts only. call Peggy 407-484-2159 accepting sponso
 rs.\n\n\n\n\n\n\nFor more information visit https://www.southeastwheel
 sevents.com/events/the-car-and-bike-show-palatka-fl
DTSTART;TZID=Pacific/Midway:20150606T080000
DTEND;TZID=Pacific/Midway:20150606T170000
CATEGORIES:car-show, bike-show
LOCATION:Walmart Shopping Center Parking Lot
WEBSITE:http://www.familyresourcefl.org
URL:http://www.familyresourcefl.org
CONTACT:Peggy and Nancy 407-484-2159; 386-385-5093 bikerinfo2014@gmail
 .com
ORGANIZER:Benefit: Family Resource Connection
ATTACH;FMTTYPE="image/jpeg":http://storage.ning.com/topology/rest/1.0/
 file/get/967687532?profile=original
ATTENDEE;ROLE=REQ-PARTICIPANT;PARTSTAT=ACCEPTED;RSVP=TRUE;CN="Chuck Aa
 ron":https://www.southeastwheelsevents.com/profile/ChuckAaron
END:VEVENT
END:VCALENDAR
