BEGIN:VCALENDAR
PRODID:NingEventWidget-v1
VERSION:2.0
METHOD:PUBLISH
BEGIN:VTIMEZONE
TZID:Pacific/Midway
X-LIC-LOCATION:Pacific/Midway
BEGIN:STANDARD
TZOFFSETFROM:-1100
TZOFFSETTO:-1100
TZNAME:SST
DTSTART:19700101T000000
END:STANDARD
END:VTIMEZONE
BEGIN:VEVENT
UID:5072275:Event:871698
DTSTAMP:20260423T033535Z
SUMMARY:Coffee & Chrome - Car and Motorcycle Show -Hapeville, GA
DESCRIPTION:The Coffee & Chrome - Car and Motorcycle Show is \"FREE\" 
 and runs from 8:30am to 12:Noon - rain or shine! Car and motorcycle ow
 ners are invited to join us and talk shop with other chrome enthusiast
 s while enjoying \"FREE\" coffee and biscuits (first come, first serve
 d) compliments of The Original Chick-fil-A Dwarf House. The car and mo
 torcycle show is located in the parking area of the Jess Lucas Park, 3
 585 Atlanta Avenue, Hapeville, GA 30354. This parking area is reserved
  for car and motorcycle participants only. Sponsors--> Porsche, Delta 
 Air Lines, Triumph Motorcycle, The Guide - Atlanta Airport Area, The O
 riginal Chick-fil-A Dwarf House, Chick-fil-A Corporate, City of Hapevi
 lle, Hilton Atlanta Airport, Renaissance Concourse Atlanta Airport Hot
 el, Airport Area Chamber of Commerce\r\nFLYER PDF\n\nFor more informat
 ion visit https://www.southeastwheelsevents.com/events/the-coffee-chro
 me-car-and-motorcycle-show-1
DTSTART;TZID=Pacific/Midway:20171209T083000
DTEND;TZID=Pacific/Midway:20171209T120000
CATEGORIES:car, motorcycle, collectors, enthusiasts
LOCATION:Jess Lucas Park Hapeville (Atlanta Airport Area)
WEBSITE:http://www.coffeeandchrome.com
URL:http://www.coffeeandchrome.com
CONTACT:coffeeandchrome@gmail.com 678-883-0809
ORGANIZER:Coffee &amp; Chrome - Car and Motorcycle Show
ATTACH;FMTTYPE="image/jpeg":http://storage.ning.com/topology/rest/1.0/
 file/get/967683619?profile=original
ATTENDEE;ROLE=REQ-PARTICIPANT;PARTSTAT=ACCEPTED;RSVP=TRUE;CN="Joshua P
 owell":https://www.southeastwheelsevents.com/profile/JoshuaPowell
END:VEVENT
END:VCALENDAR
