BEGIN:VCALENDAR
PRODID:NingEventWidget-v1
VERSION:2.0
METHOD:PUBLISH
BEGIN:VTIMEZONE
TZID:Pacific/Midway
X-LIC-LOCATION:Pacific/Midway
BEGIN:STANDARD
TZOFFSETFROM:-1100
TZOFFSETTO:-1100
TZNAME:SST
DTSTART:19700101T000000
END:STANDARD
END:VTIMEZONE
BEGIN:VEVENT
UID:5072275:Event:615124
DTSTAMP:20260420T142003Z
SUMMARY:The CSRA Road Angels 1st Friday Cruise-in.& Second Saturday Cr
 uise-in every month -Augusta, GA
DESCRIPTION:The CSRA ROAD ANGELS First Friday cruise-ins will be hel
 d at Friedman's Jewelers on Washington Road @ Alexander Rd. from 5-9 p
 m every month.  Our Second Saturday cruise-ins will be held at the sa
 me location from 1-5pm every month except April   April our cruise-
 in will be on the 20th because of Master's Week Golf Tournament just u
 p the street.  $10 entry fee for each event with 50 percent given bac
 k to participants., 50/50 drawing at each event.  Free Hotdogs and dr
 inks to participants at each event. For more information contact Bubba
  Holley @ 706-394-0444\n\nFor more information visit https://www.south
 eastwheelsevents.com/events/the-csra-road-angels-first-friday-cruise-i
 n-second-saturday
DTSTART;TZID=Pacific/Midway:20130420T130000
DTEND;TZID=Pacific/Midway:20130420T170000
CATEGORIES:cruise-ins
LOCATION:Friedman's Jewelers
WEBSITE:http://www.csraroadangels.com
URL:http://www.csraroadangels.com
CONTACT:706-394-0444
ORGANIZER:Jan W. \"Bubba\" Holley
ATTACH;FMTTYPE="image/jpeg":
ATTENDEE;ROLE=REQ-PARTICIPANT;PARTSTAT=ACCEPTED;RSVP=TRUE;CN="jan w. \
 "bubba\" holley":https://www.southeastwheelsevents.com/profile/janwbub
 baholley
END:VEVENT
END:VCALENDAR
