BEGIN:VCALENDAR
PRODID:NingEventWidget-v1
VERSION:2.0
METHOD:PUBLISH
BEGIN:VTIMEZONE
TZID:Pacific/Midway
X-LIC-LOCATION:Pacific/Midway
BEGIN:STANDARD
TZOFFSETFROM:-1100
TZOFFSETTO:-1100
TZNAME:SST
DTSTART:19700101T000000
END:STANDARD
END:VTIMEZONE
BEGIN:VEVENT
UID:5072275:Event:699462
DTSTAMP:20260424T162524Z
SUMMARY:\"THE FACTORY\" Car Show -Acworth, GA
DESCRIPTION:An Open Car Show to benefit a NEW Church, \"The Factory\"!
  We will have a Dozen Popular Choice Award, 50/50 Raffle, Door Prizes 
 and Goody Bags! All Makes-Models-Years Cars, Trucks, Bikes are Welcome
 . Entry Fee: $20 Donation.\nSpectators are always welcome!\n\nFor more
  information visit https://www.southeastwheelsevents.com/events/the-fa
 ctory-car-show
DTSTART;TZID=Pacific/Midway:20131026T100000
DTEND;TZID=Pacific/Midway:20131026T150000
CATEGORIES:car, show, fundraiser
LOCATION:Cedarcrest Church
WEBSITE:http://www.GeorgiaCoolCruisers.org
URL:http://www.GeorgiaCoolCruisers.org
CONTACT:404-732-6842
ORGANIZER;CN="Rick Ellis":https://www.southeastwheelsevents.com/profil
 e/RickEllis
ATTACH;FMTTYPE="image/jpeg":http://storage.ning.com/topology/rest/1.0/
 file/get/967647542?profile=original
ATTENDEE;ROLE=REQ-PARTICIPANT;PARTSTAT=ACCEPTED;RSVP=TRUE;CN="Rick Ell
 is":https://www.southeastwheelsevents.com/profile/RickEllis
ATTENDEE;ROLE=REQ-PARTICIPANT;PARTSTAT=TENTATIVE;RSVP=TRUE;CN="JP Brad
 y":https://www.southeastwheelsevents.com/profile/jpbrady
END:VEVENT
END:VCALENDAR
