BEGIN:VCALENDAR
PRODID:NingEventWidget-v1
VERSION:2.0
METHOD:PUBLISH
BEGIN:VTIMEZONE
TZID:Pacific/Midway
X-LIC-LOCATION:Pacific/Midway
BEGIN:STANDARD
TZOFFSETFROM:-1100
TZOFFSETTO:-1100
TZNAME:SST
DTSTART:19700101T000000
END:STANDARD
END:VTIMEZONE
BEGIN:VEVENT
UID:5072275:Event:844276
DTSTAMP:20260421T000104Z
SUMMARY:The Frosty Balls Poker Run & Bomber Girls Cookie Drive -Savann
 ah, GA
DESCRIPTION:The Frosty Balls Poker Run & Bomber Girls Cookie Drive wil
 l be held at Savannah Harley Davidson in Savannah, Georgia on December
  26th, 2014.\n\nLocation: -Savannah Harley Davidson 6 Gateway Blvd, W 
 Savannah, GA 31419\n\n$15 first hand, add'd hand $5. Free additional h
 and with Abate Membership/renewal or one dozen Homemade cookies  Cooki
 es will be sent to deployed military.   Last year we shipped over 3,
 500 cookies.   Join us in showing our appreciation to the men and wom
 en who give us our freedom.   Run ends at the VFW Post 660. There wil
 l be live music, 50/50, food and door prizes.\n\nPlease Contact For M
 ore Information: -912-341-9522\n\nWe hope to see you there!\n\n\nFor m
 ore information visit https://www.southeastwheelsevents.com/events/the
 -frosty-balls-poker-run-bomber-girls-cookie-drive-savannah-ga
DTSTART;TZID=Pacific/Midway:20141226T080000
DTEND;TZID=Pacific/Midway:20141226T173000
CATEGORIES:ladies, bike, nite
LOCATION:Savannah Harley Davidson
WEBSITE:http://www.abatega11.org/
URL:http://www.abatega11.org/
CONTACT:webmaster@abatega11.org  912-341-9522
ORGANIZER:Savannah Harley Davidson & ABATE
ATTACH;FMTTYPE="image/jpeg":http://storage.ning.com/topology/rest/1.0/
 file/get/967649042?profile=original
ATTENDEE;ROLE=REQ-PARTICIPANT;PARTSTAT=ACCEPTED;RSVP=TRUE;CN="Chuck Aa
 ron":https://www.southeastwheelsevents.com/profile/ChuckAaron
END:VEVENT
END:VCALENDAR
