BEGIN:VCALENDAR
PRODID:NingEventWidget-v1
VERSION:2.0
METHOD:PUBLISH
BEGIN:VTIMEZONE
TZID:Pacific/Midway
X-LIC-LOCATION:Pacific/Midway
BEGIN:STANDARD
TZOFFSETFROM:-1100
TZOFFSETTO:-1100
TZNAME:SST
DTSTART:19700101T000000
END:STANDARD
END:VTIMEZONE
BEGIN:VEVENT
UID:5072275:Event:823397
DTSTAMP:20260423T145652Z
SUMMARY:The Gathering Southeast Regional All Oldsmobile Car Show Carte
 rsville Ga
DESCRIPTION:\nThe Gathering 2014 Southeast Regional All Oldsmobile Car
  Show & Swap Meet. Saturday October 11th at Founders Plaza at the inte
 rsection of Cherokee & Public Square in Cartersville Georgia. Registr
 ation to start at 8:00 AM - Judging to start at 10:00 AM - Awards Cere
 mony to start at 3:00 PM. The show is open to everyone who has an Olds
 mobile. Show proceeds to benefit the R E Olds Transportation Museum. P
 lease visit the Dixie Olds Club website at http://dixieolds.50megs.com
  for registration form and show information. Registration fee is $25 i
 f received by September 27th 2014. After September 27th 2014 registrat
 ion fee is $30. Host hotel is the Hilton Garden Inn at 24 Liberty Dri
 ve in Cartersville Georgia. Room rate is $99 plus tax per night for a
  room with 2 Queen beds or 1 King bed. Contact hotel at 770-382-9787,
  mention the Dixie Olds Car Show no later thatn September 19th to rece
 ive this rate. \n\nFor more information visit https://www.southeastwh
 eelsevents.com/events/the-gathering-southeast-regional-all-oldsmobile-
 car-show
DTSTART;TZID=Pacific/Midway:20141011T000000
DTEND;TZID=Pacific/Midway:20141011T235900
CATEGORIES:car, show, swap, meet
LOCATION:Founders Plaza
WEBSITE:http://dixieolds.50megs.com/
URL:http://dixieolds.50megs.com/
CONTACT:Terry Mell 678-849-4030
ORGANIZER;CN="Joe Fotschky":https://www.southeastwheelsevents.com/prof
 ile/JoeFotschky
ATTACH;FMTTYPE="image/jpeg":http://storage.ning.com/topology/rest/1.0/
 file/get/967667828?profile=original
ATTENDEE;ROLE=REQ-PARTICIPANT;PARTSTAT=ACCEPTED;RSVP=TRUE;CN="Joe Fots
 chky":https://www.southeastwheelsevents.com/profile/JoeFotschky
END:VEVENT
END:VCALENDAR
