BEGIN:VCALENDAR
PRODID:NingEventWidget-v1
VERSION:2.0
METHOD:PUBLISH
BEGIN:VTIMEZONE
TZID:Pacific/Midway
X-LIC-LOCATION:Pacific/Midway
BEGIN:STANDARD
TZOFFSETFROM:-1100
TZOFFSETTO:-1100
TZNAME:SST
DTSTART:19700101T000000
END:STANDARD
END:VTIMEZONE
BEGIN:VEVENT
UID:5072275:Event:1101976
DTSTAMP:20260423T123224Z
SUMMARY:\"The Gathering\" Southeast Regional All Oldsmobile Show and S
 wap Meet - Cartersville, GA
DESCRIPTION:\"The Gathering\" Southeast Regional All Oldsmobile Show a
 nd Swap Meet at the new Savoy Automobile Museum\r\n\r\nThe Dixie Olds 
 Club is proud to Celebrate Oldsmobiles in the South at our 11th Annual
  Gathering -- the 2021 Southeast Regional All Oldsmobile Car Show & Sw
 ap Meet\r\nShow proceeds will benefit the R. E. Olds Transportation Mu
 seum\r\nShow Location: Savoy Automobile Museum3 Savoy Lane, Catersvil
 le, GA Cherokee Ave & Public Square Cartersville, Georgia 30120\r\n•
  Car Show/Swap Meet • Show Registration to start at 8:00 am • Judg
 ing to start at 10:30 AM • Awards ceremony to start at 2:00 pm\r\nTh
 is show is open to anyone with an Oldsmobile and Club affiliation is n
 ot required.\r\nONLINE REGISTRATION IS NOW OPEN AT: https://dixieoldsc
 lub.formstack.com/forms/gathering2021\r\nAll registrations received by
  September 18, 2021 will be entered into a drawing to win $100. Pre-re
 gistrations are non-refundable.\r\nHost hotel is the Hilton Garden Inn
  at 24 Liberty Drive in Cartersville, GA. Room rate is $129 plus tax p
 er night for a room with 1 king bed or $149 for a room with 2 queen be
 ds. Use this link to book your room if needed: https://group.hiltongar
 deninn.com/53ebf. OR, call 770-382-9787 no later than September 18, 20
 21 and mention the Dixie Olds Car Show to receive this rate.\n\nFor mo
 re information visit https://www.southeastwheelsevents.com/events/the-
 gathering-southeast-regional-all-oldsmobile-show-and-swap
DTSTART;TZID=Pacific/Midway:20221001T080000
DTEND;TZID=Pacific/Midway:20221001T150000
CATEGORIES:car, show, cruise, in
LOCATION:Savoy Automobile Museum
WEBSITE:http://dixieoldsclub.com
URL:http://dixieoldsclub.com
CONTACT:Jerry 770-584-0052
ORGANIZER:Dixie Olds Club
ATTACH;FMTTYPE="image/jpeg":http://storage.ning.com/topology/rest/1.0/
 file/get/967798056?profile=original
ATTENDEE;ROLE=REQ-PARTICIPANT;PARTSTAT=ACCEPTED;RSVP=TRUE;CN="Anthony 
 Hopkins":https://www.southeastwheelsevents.com/profile/AnthonyHopkins
END:VEVENT
END:VCALENDAR
