BEGIN:VCALENDAR
PRODID:NingEventWidget-v1
VERSION:2.0
METHOD:PUBLISH
BEGIN:VTIMEZONE
TZID:Pacific/Midway
X-LIC-LOCATION:Pacific/Midway
BEGIN:STANDARD
TZOFFSETFROM:-1100
TZOFFSETTO:-1100
TZNAME:SST
DTSTART:19700101T000000
END:STANDARD
END:VTIMEZONE
BEGIN:VEVENT
UID:5072275:Event:843102
DTSTAMP:20260423T013101Z
SUMMARY:The Georgia Regional Mustang Club & Jim Tidwell Ford Toys For 
 Tots Mustang and All Ford Show
DESCRIPTION: \n\nFor more information visit https://www.southeastwhee
 lsevents.com/events/the-georgia-regional-mustang-club-jim-tidwell-ford
 -toys-for-tots
DTSTART;TZID=Pacific/Midway:20141101T090000
DTEND;TZID=Pacific/Midway:20141101T160000
CATEGORIES:mustang, and, all, ford, car, show
LOCATION:Jim Tidwell Ford
WEBSITE:https://maps.google.com/maps?output=classic&dg=brw
URL:https://maps.google.com/maps?output=classic&dg=brw
CONTACT:
ORGANIZER;CN="Cameron Lee":https://www.southeastwheelsevents.com/profi
 le/CameronLee
ATTACH;FMTTYPE="image/jpeg":http://storage.ning.com/topology/rest/1.0/
 file/get/967676466?profile=original
ATTENDEE;ROLE=REQ-PARTICIPANT;PARTSTAT=ACCEPTED;RSVP=TRUE;CN="Cameron 
 Lee":https://www.southeastwheelsevents.com/profile/CameronLee
END:VEVENT
END:VCALENDAR
