BEGIN:VCALENDAR
PRODID:NingEventWidget-v1
VERSION:2.0
METHOD:PUBLISH
BEGIN:VTIMEZONE
TZID:Pacific/Midway
X-LIC-LOCATION:Pacific/Midway
BEGIN:STANDARD
TZOFFSETFROM:-1100
TZOFFSETTO:-1100
TZNAME:SST
DTSTART:19700101T000000
END:STANDARD
END:VTIMEZONE
BEGIN:VEVENT
UID:5072275:Event:38655
DTSTAMP:20260423T105633Z
SUMMARY:The Great Valley Exposition Cruise In -Rome, GA
DESCRIPTION:\nAntique Tractor and car/truck show. Lots of fun for ever
 yone. No contest. Just come and exhibit your car, truck, or tractor! M
 ule plowing, cultivating and more! Come enjoy the show. Lowrey Farms o
 n Highway 140 706-295-1157\nThe Great Valley Exposition is an event he
 ld by Sam, John and Ivy Lowrey in July of each year.  People come fro
 m all over to set up their exhibits with items to show, sell or trade.
   There is plenty to see such as antique vehicles, antique equipment
  and various other antiques.  Even the children enjoyed all the activ
 ities.\n\nFor more information visit https://www.southeastwheelsevents
 .com/events/the-great-valley-exposition
DTSTART;TZID=Pacific/Midway:20170714T000000
DTEND;TZID=Pacific/Midway:20170715T235900
CATEGORIES:antique, tractor, car, and, truck, show
LOCATION:Lowrey Farms
WEBSITE:http://www.gawindmills.com
URL:http://www.gawindmills.com
CONTACT:706-295-1157
ORGANIZER;CN="Ivy Lowrey":https://www.southeastwheelsevents.com/profil
 e/IvyLowrey
ATTACH;FMTTYPE="image/jpeg":http://storage.ning.com/topology/rest/1.0/
 file/get/967578782?profile=original
ATTENDEE;ROLE=REQ-PARTICIPANT;PARTSTAT=ACCEPTED;RSVP=TRUE;CN="Ivy Lowr
 ey":https://www.southeastwheelsevents.com/profile/IvyLowrey
END:VEVENT
END:VCALENDAR
